Workbook

Sheet Rosters
A1: 2025 Pos | B1: 2025 Tm | C1: 2025 Card | D1: Player | E1: Birthday | F1: NFL Draft | G1: Lg Draft | H1: 2024 Pos | I1: 2024 Tm | J1: 2024 Card | K1: 2023 Pos | L1: 2023 Card Info | M1: 2022 Pos | N1: 2022 Tm | O1: 2022 Card Info | P1: 2021 Card Info | Q1: 2020 Pos | R1: 2020 Tm | S1: 2020 Card Info | T1: 2019 Pos | U1: 2019Tm | V1: 2019 Card Info | W1: 2018 Pos | X1: 2018Tm | Y1: 2018 Card Info | Z1: 2017 Pos | AA1: 2017Tm | AB1: 2017 Card Info | AC1: 2016 Pos | AD1: 2016Tm | AE1: 2016 Card Info | AF1: 2015 Pos | AG1: 2015Tm | AH1: 2015 Card Info | AI1: 2014 Pos | AJ1: 2014Tm | AK1: 2014 Card Info | AL1: 2013 Pos | AM1: 2013Tm | AN1: 2013 Card Info | AO1: 2012 Pos | AP1: 2012Tm | AQ1: 2012 Card Info | AR1: 2011 Pos | AS1: 2011Tm | AT1: 2011 Card Info | AU1: 2010 Pos | AV1: 2010Tm | AW1: 2010 Card Info | AX1: 2009 Pos | AY1: 2009Tm | AZ1: 2009 Card Info | BA1: 2008 Pos | BB1: 2008Tm | BC1: 2008 Card Info | BD1: 2007 Pos | BE1: 2007Tm | BF1: 2007 Card Info | BG1: 2006 Pos | BH1: 2006Tm | BI1: 2006 Card Info | BJ1: 2005Pos | BK1: 2005Tm | BL1: 2005 Card Info | BM1: 2004 Pos | BN1: 2004Tm | BO1: 2004 Card Info | BP1: 2003 Pos | BQ1: 2003Tm | BR1: 2003 Card Info | BS1: 2002 Pos | BT1: 2002Tm | BU1: 2002 Card Info | BV1: 2001 Pos | BW1: 2001Tm | BX1: 2001 Card Info
E3: Roster # | F3: HB # | G3: KR# | H3: PR#
A4: ARIZONA CARDINALS -- Dan T. | E4: =COUNTA(D7:D71) -> 56 | F4: =COUNTIF(A6:A71,"*HB*") -> 3 | G4: =COUNTIF(A6:A71,"*KR*")+COUNTIF(A6:A71,"*LK*") -> 3 | H4: =COUNTIF(A6:A71,"*PR*")+COUNTIF(A6:A71,"*LP*") -> 1
A7: QB | B7: ARI | D7: Murray, Kyler | E7: 35649 | F7: 19/1 (1) | G7: 19/1 (1) | H7: QB | I7: ARN | J7: 541 Attempts | K7: QB | M7: QB | N7: ARI | Q7: QB(P) | R7: ARI | T7: QB(P) | U7: ARN
D8: Zappe, Bailey | E8: 36276 | F8: 22/4 | G8: 22/2 | H8: QB | I8: CLA | J8: 31 Attempts | K8: QB | M8: QB | N8: NE
A10: HB | B10: ATL | C10: 0-4 143 | D10: Allgeier, Tyler | E10: 36631 | F10: 22/5 | G10: 22/1 (9) | H10: HB | I10: ATN | J10: 0-4 137 | K10: HB | L10: 0-7 186 | M10: HB | N10: ATL | O10: 0-2 210
A11: HB/KR | B11: PHI | C11: 0-0 63 | D11: Bigsby, Tank | E11: 37133 | F11: 23/3 | G11: 22/5 | H11: HB KOR | I11: JXA | J11: 0-0 168 | K11: HB | L11: 4-0 50
A12: HB | B12: DET | C12: 0-0 3 | D12: Reynolds, Craig | E12: 35231 | F12: 19/FA | G12: 21/6 | H12: HB | I12: DEN | J12: 0-0 31 | K12: HB/KR | L12: 0-0 41 | M12: HB | N12: DET | O12: 0-0 23 | P12: 0-0 55
D13: McIntosh, Kenny | E13: 36588 | F13: 23/7 | G13: 24/8 | H13: HB | I13: SEN | J13: 0-0 31 | K13: =IF(ISBLANK(VLOOKUP(TRIM(D13),ALL_SOMIFA!$A$1:$V$2721,8,FALSE)),"",IF(ISERROR(VLOOKUP(TRIM(D13),ALL_SOMIFA!$A$1:$V$2721,8,FALSE))," ",VLOOKUP(TRIM(D13),ALL_SOMIFA!$A$1:$V$2721,8,FALSE))) | L13: =IF(ISBLANK(VLOOKUP(TRIM(D13),ALL_SOMIFA!$A$1:$V$2721,9,FALSE)),"",IF(ISERROR(VLOOKUP(TRIM(D13),ALL_SOMIFA!$A$1:$V$2721,9,FALSE))," ",VLOOKUP(TRIM(D13),ALL_SOMIFA!$A$1:$V$2721,9,FALSE))) | M13: =IF(ISBLANK(VLOOKUP(TRIM(D13),ALL_SOMIFA!$A$1:$V$2721,10,FALSE)),"",IF(ISERROR(VLOOKUP(TRIM(D13),ALL_SOMIFA!$A$1:$V$2721,10,FALSE))," ",VLOOKUP(TRIM(D13),ALL_SOMIFA!$A$1:$V$2721,10,FALSE))) | N13: =IF(ISBLANK(VLOOKUP(TRIM(D13),ALL_SOMIFA!$A$1:$V$2721,11,FALSE)),"",IF(ISERROR(VLOOKUP(TRIM(D13),ALL_SOMIFA!$A$1:$V$2721,11,FALSE))," ",VLOOKUP(TRIM(D13),ALL_SOMIFA!$A$1:$V$2721,11,FALSE))) | O13: =IF(ISBLANK(VLOOKUP(TRIM(D13),ALL_SOMIFA!$A$1:$V$2721,12,FALSE)),"",IF(ISERROR(VLOOKUP(TRIM(D13),ALL_SOMIFA!$A$1:$V$2721,12,FALSE))," ",VLOOKUP(TRIM(D13),ALL_SOMIFA!$A$1:$V$2721,12,FALSE))) | P13: =IF(ISBLANK(VLOOKUP(TRIM(D13),ALL_SOMIFA!$A$1:$V$2721,13,FALSE)),"",IF(ISERROR(VLOOKUP(TRIM(D13),ALL_SOMIFA!$A$1:$V$2721,13,FALSE))," ",VLOOKUP(TRIM(D13),ALL_SOMIFA!$A$1:$V$2721,13,FALSE))) | Q13: =IF(ISBLANK(VLOOKUP(TRIM(D13),ALL_SOMIFA!$A$1:$V$2721,14,FALSE)),"",IF(ISERROR(VLOOKUP(TRIM(D13),ALL_SOMIFA!$A$1:$V$2721,14,FALSE))," ",VLOOKUP(TRIM(D13),ALL_SOMIFA!$A$1:$V$2721,14,FALSE))) | R13: =IF(ISBLANK(VLOOKUP(TRIM(D13),ALL_SOMIFA!$A$1:$V$2721,15,FALSE)),"",IF(ISERROR(VLOOKUP(TRIM(D13),ALL_SOMIFA!$A$1:$V$2721,15,FALSE))," ",VLOOKUP(TRIM(D13),ALL_SOMIFA!$A$1:$V$2721,15,FALSE))) | S13: =IF(ISBLANK(VLOOKUP(TRIM(D13),ALL_SOMIFA!$A$1:$V$2721,16,FALSE)),"",IF(ISERROR(VLOOKUP(TRIM(D13),ALL_SOMIFA!$A$1:$V$2721,16,FALSE))," ",VLOOKUP(TRIM(D13),ALL_SOMIFA!$A$1:$V$2721,16,FALSE))) | T13: =IF(ISBLANK(VLOOKUP(TRIM(D13),ALL_SOMIFA!$A$1:$V$2721,17,FALSE)),"",IF(ISERROR(VLOOKUP(TRIM(D13),ALL_SOMIFA!$A$1:$V$2721,17,FALSE))," ",VLOOKUP(TRIM(D13),ALL_SOMIFA!$A$1:$V$2721,17,FALSE))) | U13: =IF(ISBLANK(VLOOKUP(TRIM(D13),ALL_SOMIFA!$A$1:$V$2721,18,FALSE)),"",IF(ISERROR(VLOOKUP(TRIM(D13),ALL_SOMIFA!$A$1:$V$2721,18,FALSE))," ",VLOOKUP(TRIM(D13),ALL_SOMIFA!$A$1:$V$2721,18,FALSE))) | V13: =IF(ISBLANK(VLOOKUP(TRIM(D13),ALL_SOMIFA!$A$1:$V$2721,19,FALSE)),"",IF(ISERROR(VLOOKUP(TRIM(D13),ALL_SOMIFA!$A$1:$V$2721,19,FALSE))," ",VLOOKUP(TRIM(D13),ALL_SOMIFA!$A$1:$V$2721,19,FALSE))) | W13: =IF(ISBLANK(VLOOKUP(TRIM(D13),ALL_SOMIFA!$A$1:$V$2721,20,FALSE)),"",IF(ISERROR(VLOOKUP(TRIM(D13),ALL_SOMIFA!$A$1:$V$2721,20,FALSE))," ",VLOOKUP(TRIM(D13),ALL_SOMIFA!$A$1:$V$2721,20,FALSE))) | X13: =IF(ISBLANK(VLOOKUP(TRIM(D13),ALL_SOMIFA!$A$1:$V$2721,21,FALSE)),"",IF(ISERROR(VLOOKUP(TRIM(D13),ALL_SOMIFA!$A$1:$V$2721,21,FALSE))," ",VLOOKUP(TRIM(D13),ALL_SOMIFA!$A$1:$V$2721,21,FALSE))) | Y13: =IF(ISBLANK(VLOOKUP(TRIM(D13),ALL_SOMIFA!$A$1:$V$2721,22,FALSE)),"",IF(ISERROR(VLOOKUP(TRIM(D13),ALL_SOMIFA!$A$1:$V$2721,22,FALSE))," ",VLOOKUP(TRIM(D13),ALL_SOMIFA!$A$1:$V$2721,22,FALSE)))
A15: FL | B15: CIN | D15: Chase, Ja'Marr | E15: 36586 | F15: 21/1 (5) | G15: 21/1 (5) | H15: FL | I15: CNA | J15: 6-6-6 | K15: SE | M15: FL | N15: CIN
A16: SE | B16: WAS | D16: McLaurin, Terry | E16: 34957 | F16: 19/3 | G16: 19/1 (13) | H16: SE | I16: WAN | J16: 5-6-5 | K16: SE | M16: SE | N16: WAS | Q16: SE | R16: WAS | T16: SE | U16: WAS
A17: SE | B17: BUF | C17: 4 | D17: Coleman, Keon | E17: 37758 | F17: 24/2(33) | G17: 24/3 | H17: SE | I17: BFA | J17: 4-4-4 | K17: =IF(ISBLANK(VLOOKUP(TRIM(D17),ALL_SOMIFA!$A$1:$V$2721,8,FALSE)),"",IF(ISERROR(VLOOKUP(TRIM(D17),ALL_SOMIFA!$A$1:$V$2721,8,FALSE))," ",VLOOKUP(TRIM(D17),ALL_SOMIFA!$A$1:$V$2721,8,FALSE))) | L17: =IF(ISBLANK(VLOOKUP(TRIM(D17),ALL_SOMIFA!$A$1:$V$2721,9,FALSE)),"",IF(ISERROR(VLOOKUP(TRIM(D17),ALL_SOMIFA!$A$1:$V$2721,9,FALSE))," ",VLOOKUP(TRIM(D17),ALL_SOMIFA!$A$1:$V$2721,9,FALSE))) | M17: =IF(ISBLANK(VLOOKUP(TRIM(D17),ALL_SOMIFA!$A$1:$V$2721,10,FALSE)),"",IF(ISERROR(VLOOKUP(TRIM(D17),ALL_SOMIFA!$A$1:$V$2721,10,FALSE))," ",VLOOKUP(TRIM(D17),ALL_SOMIFA!$A$1:$V$2721,10,FALSE))) | N17: =IF(ISBLANK(VLOOKUP(TRIM(D17),ALL_SOMIFA!$A$1:$V$2721,11,FALSE)),"",IF(ISERROR(VLOOKUP(TRIM(D17),ALL_SOMIFA!$A$1:$V$2721,11,FALSE))," ",VLOOKUP(TRIM(D17),ALL_SOMIFA!$A$1:$V$2721,11,FALSE))) | O17: =IF(ISBLANK(VLOOKUP(TRIM(D17),ALL_SOMIFA!$A$1:$V$2721,12,FALSE)),"",IF(ISERROR(VLOOKUP(TRIM(D17),ALL_SOMIFA!$A$1:$V$2721,12,FALSE))," ",VLOOKUP(TRIM(D17),ALL_SOMIFA!$A$1:$V$2721,12,FALSE))) | P17: =IF(ISBLANK(VLOOKUP(TRIM(D17),ALL_SOMIFA!$A$1:$V$2721,13,FALSE)),"",IF(ISERROR(VLOOKUP(TRIM(D17),ALL_SOMIFA!$A$1:$V$2721,13,FALSE))," ",VLOOKUP(TRIM(D17),ALL_SOMIFA!$A$1:$V$2721,13,FALSE))) | Q17: =IF(ISBLANK(VLOOKUP(TRIM(D17),ALL_SOMIFA!$A$1:$V$2721,14,FALSE)),"",IF(ISERROR(VLOOKUP(TRIM(D17),ALL_SOMIFA!$A$1:$V$2721,14,FALSE))," ",VLOOKUP(TRIM(D17),ALL_SOMIFA!$A$1:$V$2721,14,FALSE))) | R17: =IF(ISBLANK(VLOOKUP(TRIM(D17),ALL_SOMIFA!$A$1:$V$2721,15,FALSE)),"",IF(ISERROR(VLOOKUP(TRIM(D17),ALL_SOMIFA!$A$1:$V$2721,15,FALSE))," ",VLOOKUP(TRIM(D17),ALL_SOMIFA!$A$1:$V$2721,15,FALSE))) | S17: =IF(ISBLANK(VLOOKUP(TRIM(D17),ALL_SOMIFA!$A$1:$V$2721,16,FALSE)),"",IF(ISERROR(VLOOKUP(TRIM(D17),ALL_SOMIFA!$A$1:$V$2721,16,FALSE))," ",VLOOKUP(TRIM(D17),ALL_SOMIFA!$A$1:$V$2721,16,FALSE))) | T17: =IF(ISBLANK(VLOOKUP(TRIM(D17),ALL_SOMIFA!$A$1:$V$2721,17,FALSE)),"",IF(ISERROR(VLOOKUP(TRIM(D17),ALL_SOMIFA!$A$1:$V$2721,17,FALSE))," ",VLOOKUP(TRIM(D17),ALL_SOMIFA!$A$1:$V$2721,17,FALSE))) | U17: =IF(ISBLANK(VLOOKUP(TRIM(D17),ALL_SOMIFA!$A$1:$V$2721,18,FALSE)),"",IF(ISERROR(VLOOKUP(TRIM(D17),ALL_SOMIFA!$A$1:$V$2721,18,FALSE))," ",VLOOKUP(TRIM(D17),ALL_SOMIFA!$A$1:$V$2721,18,FALSE))) | V17: =IF(ISBLANK(VLOOKUP(TRIM(D17),ALL_SOMIFA!$A$1:$V$2721,19,FALSE)),"",IF(ISERROR(VLOOKUP(TRIM(D17),ALL_SOMIFA!$A$1:$V$2721,19,FALSE))," ",VLOOKUP(TRIM(D17),ALL_SOMIFA!$A$1:$V$2721,19,FALSE))) | W17: =IF(ISBLANK(VLOOKUP(TRIM(D17),ALL_SOMIFA!$A$1:$V$2721,20,FALSE)),"",IF(ISERROR(VLOOKUP(TRIM(D17),ALL_SOMIFA!$A$1:$V$2721,20,FALSE))," ",VLOOKUP(TRIM(D17),ALL_SOMIFA!$A$1:$V$2721,20,FALSE))) | X17: =IF(ISBLANK(VLOOKUP(TRIM(D17),ALL_SOMIFA!$A$1:$V$2721,21,FALSE)),"",IF(ISERROR(VLOOKUP(TRIM(D17),ALL_SOMIFA!$A$1:$V$2721,21,FALSE))," ",VLOOKUP(TRIM(D17),ALL_SOMIFA!$A$1:$V$2721,21,FALSE))) | Y17: =IF(ISBLANK(VLOOKUP(TRIM(D17),ALL_SOMIFA!$A$1:$V$2721,22,FALSE)),"",IF(ISERROR(VLOOKUP(TRIM(D17),ALL_SOMIFA!$A$1:$V$2721,22,FALSE))," ",VLOOKUP(TRIM(D17),ALL_SOMIFA!$A$1:$V$2721,22,FALSE)))
A18: WR | B18: BUF | D18: Davis, Gabe | E18: 36251 | F18: 20/4 | G18: 20/3 | H18: SE FL | I18: JXA | J18: 3-3-3 | K18: SE | M18: SE | N18: BUF | Q18: SE | R18: BUF
A19: WR | B19: DEN | D19: Humphrey, Lil'Jordan | E19: 35904 | F19: 19/FA | G19: 23/7 | H19: SE FL | I19: DNA | J19: 4-3-3 | K19: WR
A21: TE | B21: WAS | C21: 4 | D21: Ertz, Zach | E21: 33187 | F21: 13/2 | G21: IN/8 | H21: TE | I21: WAN | J21: 0 5-5-2 | K21: WR | L21: 0-0/4 | M21: BB/TE | N21: ARI | O21: 0-0/0 | P21: 0 | Q21: BB TE | R21: PHI | S21: 0-4 | T21: TE | U21: PHI | V21: 4 | W21: TE | X21: PHI | Y21: 0 | Z21: TE | AA21: PHI | AB21: 0 | AC21: TE | AD21: PHI | AE21: 4 | AF21: TE | AG21: PHI | AH21: 6 | AI21: TE | AJ21: PHI | AK21: 6 | AL21: TE/BB | AM21: PHI | AN21: 5/4-0 | AO21: 0 | AP21: 0 | AQ21: 0 | AR21: 0 | AS21: 0 | AT21: 0 | AU21: 0 | AV21: 0 | AW21: 0
A22: WR | B22: CAR | D22: Coker, Jalen | E22: 37194 | F22: 24/FA | G22: 24/4 | H22: SE FL TE | I22: CAN | J22: 0-0 4-4-3 | K22: =IF(ISBLANK(VLOOKUP(TRIM(D22),ALL_SOMIFA!$A$1:$V$2721,8,FALSE)),"",IF(ISERROR(VLOOKUP(TRIM(D22),ALL_SOMIFA!$A$1:$V$2721,8,FALSE))," ",VLOOKUP(TRIM(D22),ALL_SOMIFA!$A$1:$V$2721,8,FALSE))) | L22: =IF(ISBLANK(VLOOKUP(TRIM(D22),ALL_SOMIFA!$A$1:$V$2721,9,FALSE)),"",IF(ISERROR(VLOOKUP(TRIM(D22),ALL_SOMIFA!$A$1:$V$2721,9,FALSE))," ",VLOOKUP(TRIM(D22),ALL_SOMIFA!$A$1:$V$2721,9,FALSE))) | M22: =IF(ISBLANK(VLOOKUP(TRIM(D22),ALL_SOMIFA!$A$1:$V$2721,10,FALSE)),"",IF(ISERROR(VLOOKUP(TRIM(D22),ALL_SOMIFA!$A$1:$V$2721,10,FALSE))," ",VLOOKUP(TRIM(D22),ALL_SOMIFA!$A$1:$V$2721,10,FALSE))) | N22: =IF(ISBLANK(VLOOKUP(TRIM(D22),ALL_SOMIFA!$A$1:$V$2721,11,FALSE)),"",IF(ISERROR(VLOOKUP(TRIM(D22),ALL_SOMIFA!$A$1:$V$2721,11,FALSE))," ",VLOOKUP(TRIM(D22),ALL_SOMIFA!$A$1:$V$2721,11,FALSE))) | O22: =IF(ISBLANK(VLOOKUP(TRIM(D22),ALL_SOMIFA!$A$1:$V$2721,12,FALSE)),"",IF(ISERROR(VLOOKUP(TRIM(D22),ALL_SOMIFA!$A$1:$V$2721,12,FALSE))," ",VLOOKUP(TRIM(D22),ALL_SOMIFA!$A$1:$V$2721,12,FALSE))) | P22: =IF(ISBLANK(VLOOKUP(TRIM(D22),ALL_SOMIFA!$A$1:$V$2721,13,FALSE)),"",IF(ISERROR(VLOOKUP(TRIM(D22),ALL_SOMIFA!$A$1:$V$2721,13,FALSE))," ",VLOOKUP(TRIM(D22),ALL_SOMIFA!$A$1:$V$2721,13,FALSE))) | Q22: =IF(ISBLANK(VLOOKUP(TRIM(D22),ALL_SOMIFA!$A$1:$V$2721,14,FALSE)),"",IF(ISERROR(VLOOKUP(TRIM(D22),ALL_SOMIFA!$A$1:$V$2721,14,FALSE))," ",VLOOKUP(TRIM(D22),ALL_SOMIFA!$A$1:$V$2721,14,FALSE))) | R22: =IF(ISBLANK(VLOOKUP(TRIM(D22),ALL_SOMIFA!$A$1:$V$2721,15,FALSE)),"",IF(ISERROR(VLOOKUP(TRIM(D22),ALL_SOMIFA!$A$1:$V$2721,15,FALSE))," ",VLOOKUP(TRIM(D22),ALL_SOMIFA!$A$1:$V$2721,15,FALSE))) | S22: =IF(ISBLANK(VLOOKUP(TRIM(D22),ALL_SOMIFA!$A$1:$V$2721,16,FALSE)),"",IF(ISERROR(VLOOKUP(TRIM(D22),ALL_SOMIFA!$A$1:$V$2721,16,FALSE))," ",VLOOKUP(TRIM(D22),ALL_SOMIFA!$A$1:$V$2721,16,FALSE))) | T22: =IF(ISBLANK(VLOOKUP(TRIM(D22),ALL_SOMIFA!$A$1:$V$2721,17,FALSE)),"",IF(ISERROR(VLOOKUP(TRIM(D22),ALL_SOMIFA!$A$1:$V$2721,17,FALSE))," ",VLOOKUP(TRIM(D22),ALL_SOMIFA!$A$1:$V$2721,17,FALSE))) | U22: =IF(ISBLANK(VLOOKUP(TRIM(D22),ALL_SOMIFA!$A$1:$V$2721,18,FALSE)),"",IF(ISERROR(VLOOKUP(TRIM(D22),ALL_SOMIFA!$A$1:$V$2721,18,FALSE))," ",VLOOKUP(TRIM(D22),ALL_SOMIFA!$A$1:$V$2721,18,FALSE))) | V22: =IF(ISBLANK(VLOOKUP(TRIM(D22),ALL_SOMIFA!$A$1:$V$2721,19,FALSE)),"",IF(ISERROR(VLOOKUP(TRIM(D22),ALL_SOMIFA!$A$1:$V$2721,19,FALSE))," ",VLOOKUP(TRIM(D22),ALL_SOMIFA!$A$1:$V$2721,19,FALSE))) | W22: =IF(ISBLANK(VLOOKUP(TRIM(D22),ALL_SOMIFA!$A$1:$V$2721,20,FALSE)),"",IF(ISERROR(VLOOKUP(TRIM(D22),ALL_SOMIFA!$A$1:$V$2721,20,FALSE))," ",VLOOKUP(TRIM(D22),ALL_SOMIFA!$A$1:$V$2721,20,FALSE))) | X22: =IF(ISBLANK(VLOOKUP(TRIM(D22),ALL_SOMIFA!$A$1:$V$2721,21,FALSE)),"",IF(ISERROR(VLOOKUP(TRIM(D22),ALL_SOMIFA!$A$1:$V$2721,21,FALSE))," ",VLOOKUP(TRIM(D22),ALL_SOMIFA!$A$1:$V$2721,21,FALSE))) | Y22: =IF(ISBLANK(VLOOKUP(TRIM(D22),ALL_SOMIFA!$A$1:$V$2721,22,FALSE)),"",IF(ISERROR(VLOOKUP(TRIM(D22),ALL_SOMIFA!$A$1:$V$2721,22,FALSE))," ",VLOOKUP(TRIM(D22),ALL_SOMIFA!$A$1:$V$2721,22,FALSE)))
A23: BB/TE | B23: PIT | C23: 4-5/5 | D23: Washington, Darnell | E23: 37120 | F23: 23/3 | G23: 23/4 | H23: BB TE | I23: PIA | J23: 0-4 4-3-0 | K23: WR | L23: 4/0-0
A24: KR | B24: GB | D24: Melton, Bo | E24: 36298 | F24: 22/7 | G24: 23/9 | H24: (I/R) | K24: BB/TE
D25: Woods, Jelani | E25: 36077 | F25: 22/3 | G25: 22/3 | H25: (I/R) | K25: (I/R) | M25: TE/BB | N25: IND | O25: 0/0-0
A27: LT | B27: NYG | C27: 6-7 | D27: Thomas, Andrew | E27: 36182 | F27: 20/1 (4) | G27: 20/2 | H27: (I/R) | K27: (I/R) | L27: 4-3 | M27: LT | N27: NYG | O27: 6-7 | P27: 4-7 | Q27: LT | R27: NYG | S27: 4-3
A28: RG/T | B28: SF | C28: 5-7/0-7 | D28: Puni, Dominick | E28: 36580 | F28: 24/3(86) | G28: 24/1 (13) | H28: RG | I28: SFN | J28: 5-5 | K28: =IF(ISBLANK(VLOOKUP(TRIM(D28),ALL_SOMIFA!$A$1:$V$2721,8,FALSE)),"",IF(ISERROR(VLOOKUP(TRIM(D28),ALL_SOMIFA!$A$1:$V$2721,8,FALSE))," ",VLOOKUP(TRIM(D28),ALL_SOMIFA!$A$1:$V$2721,8,FALSE))) | L28: =IF(ISBLANK(VLOOKUP(TRIM(D28),ALL_SOMIFA!$A$1:$V$2721,9,FALSE)),"",IF(ISERROR(VLOOKUP(TRIM(D28),ALL_SOMIFA!$A$1:$V$2721,9,FALSE))," ",VLOOKUP(TRIM(D28),ALL_SOMIFA!$A$1:$V$2721,9,FALSE))) | M28: =IF(ISBLANK(VLOOKUP(TRIM(D28),ALL_SOMIFA!$A$1:$V$2721,10,FALSE)),"",IF(ISERROR(VLOOKUP(TRIM(D28),ALL_SOMIFA!$A$1:$V$2721,10,FALSE))," ",VLOOKUP(TRIM(D28),ALL_SOMIFA!$A$1:$V$2721,10,FALSE))) | N28: =IF(ISBLANK(VLOOKUP(TRIM(D28),ALL_SOMIFA!$A$1:$V$2721,11,FALSE)),"",IF(ISERROR(VLOOKUP(TRIM(D28),ALL_SOMIFA!$A$1:$V$2721,11,FALSE))," ",VLOOKUP(TRIM(D28),ALL_SOMIFA!$A$1:$V$2721,11,FALSE))) | O28: =IF(ISBLANK(VLOOKUP(TRIM(D28),ALL_SOMIFA!$A$1:$V$2721,12,FALSE)),"",IF(ISERROR(VLOOKUP(TRIM(D28),ALL_SOMIFA!$A$1:$V$2721,12,FALSE))," ",VLOOKUP(TRIM(D28),ALL_SOMIFA!$A$1:$V$2721,12,FALSE))) | P28: =IF(ISBLANK(VLOOKUP(TRIM(D28),ALL_SOMIFA!$A$1:$V$2721,13,FALSE)),"",IF(ISERROR(VLOOKUP(TRIM(D28),ALL_SOMIFA!$A$1:$V$2721,13,FALSE))," ",VLOOKUP(TRIM(D28),ALL_SOMIFA!$A$1:$V$2721,13,FALSE))) | Q28: =IF(ISBLANK(VLOOKUP(TRIM(D28),ALL_SOMIFA!$A$1:$V$2721,14,FALSE)),"",IF(ISERROR(VLOOKUP(TRIM(D28),ALL_SOMIFA!$A$1:$V$2721,14,FALSE))," ",VLOOKUP(TRIM(D28),ALL_SOMIFA!$A$1:$V$2721,14,FALSE))) | R28: =IF(ISBLANK(VLOOKUP(TRIM(D28),ALL_SOMIFA!$A$1:$V$2721,15,FALSE)),"",IF(ISERROR(VLOOKUP(TRIM(D28),ALL_SOMIFA!$A$1:$V$2721,15,FALSE))," ",VLOOKUP(TRIM(D28),ALL_SOMIFA!$A$1:$V$2721,15,FALSE))) | S28: =IF(ISBLANK(VLOOKUP(TRIM(D28),ALL_SOMIFA!$A$1:$V$2721,16,FALSE)),"",IF(ISERROR(VLOOKUP(TRIM(D28),ALL_SOMIFA!$A$1:$V$2721,16,FALSE))," ",VLOOKUP(TRIM(D28),ALL_SOMIFA!$A$1:$V$2721,16,FALSE))) | T28: =IF(ISBLANK(VLOOKUP(TRIM(D28),ALL_SOMIFA!$A$1:$V$2721,17,FALSE)),"",IF(ISERROR(VLOOKUP(TRIM(D28),ALL_SOMIFA!$A$1:$V$2721,17,FALSE))," ",VLOOKUP(TRIM(D28),ALL_SOMIFA!$A$1:$V$2721,17,FALSE))) | U28: =IF(ISBLANK(VLOOKUP(TRIM(D28),ALL_SOMIFA!$A$1:$V$2721,18,FALSE)),"",IF(ISERROR(VLOOKUP(TRIM(D28),ALL_SOMIFA!$A$1:$V$2721,18,FALSE))," ",VLOOKUP(TRIM(D28),ALL_SOMIFA!$A$1:$V$2721,18,FALSE))) | V28: =IF(ISBLANK(VLOOKUP(TRIM(D28),ALL_SOMIFA!$A$1:$V$2721,19,FALSE)),"",IF(ISERROR(VLOOKUP(TRIM(D28),ALL_SOMIFA!$A$1:$V$2721,19,FALSE))," ",VLOOKUP(TRIM(D28),ALL_SOMIFA!$A$1:$V$2721,19,FALSE))) | W28: =IF(ISBLANK(VLOOKUP(TRIM(D28),ALL_SOMIFA!$A$1:$V$2721,20,FALSE)),"",IF(ISERROR(VLOOKUP(TRIM(D28),ALL_SOMIFA!$A$1:$V$2721,20,FALSE))," ",VLOOKUP(TRIM(D28),ALL_SOMIFA!$A$1:$V$2721,20,FALSE))) | X28: =IF(ISBLANK(VLOOKUP(TRIM(D28),ALL_SOMIFA!$A$1:$V$2721,21,FALSE)),"",IF(ISERROR(VLOOKUP(TRIM(D28),ALL_SOMIFA!$A$1:$V$2721,21,FALSE))," ",VLOOKUP(TRIM(D28),ALL_SOMIFA!$A$1:$V$2721,21,FALSE))) | Y28: =IF(ISBLANK(VLOOKUP(TRIM(D28),ALL_SOMIFA!$A$1:$V$2721,22,FALSE)),"",IF(ISERROR(VLOOKUP(TRIM(D28),ALL_SOMIFA!$A$1:$V$2721,22,FALSE))," ",VLOOKUP(TRIM(D28),ALL_SOMIFA!$A$1:$V$2721,22,FALSE)))
A29: RT | B29: LAR | C29: 5-7 | D29: McClendon Jr., Warren | E29: 36992 | F29: 23/5 | G29: 23/8 | H29: T | I29: LAN | J29: 4-2 | K29: RT | L29: 0-0
A30: RT | B30: DAL | C30: 5-3 | D30: Steele, Terence | E30: 35585 | F30: 20/FA | G30: 20/9 | H30: RT | I30: DAN | J30: 5-5 | K30: C | L30: 4-3 | M30: RT | N30: DAL | O30: 6-4 | P30: 4-0/0 | Q30: RT | R30: DAN | S30: =IF(ISERROR(VLOOKUP(TRIM(D30),#REF!,8,FALSE())),"",VLOOKUP(TRIM(D30),#REF!,8,FALSE()))
A31: C | B31: CIN | C31: 4-7 | D31: Karras, Ted | E31: 34043 | F31: 16/6 | G31: IN/41 | H31: C | I31: CNA | J31: 0-7 | K31: G | L31: 5-7 | M31: C | N31: CIN | O31: 4-7 | P31: 4-7/0-7 | Q31: C | R31: MIA | S31: 4-7 | T31: C | U31: NE | V31: 5-7 | W31: G/C | X31: NE | Y31: 4-4/0-4 | Z31: C/G | AA31: NE | AB31: 4-2 | AC31: C/G | AD31: NE | AE31: 0-2 | AG31: 0 | AH31: 0 | AI31: 0 | AJ31: 0 | AK31: 0 | AL31: 0 | AM31: 0 | AN31: 0 | AO31: 0 | AP31: 0 | AQ31: 0 | AR31: 0 | AS31: 0 | AT31: 0 | AU31: 0 | AV31: 0 | AW31: 0
A32: LG | B32: JAX | C32: 4-5 | D32: Cleveland, Ezra | E32: 35923 | F32: 20/2 | G32: 20/1 (19) | H32: LG | I32: JXA | J32: 4-5 | K32: RG | L32: 4-3 | M32: LG | N32: MIN | O32: 5-2 | P32: 4-7 | Q32: RG | R32: MIN | S32: 4-5
A33: C | B33: LAC | C33: 4-3 | D33: Bozeman, Bradley | E33: 34662 | F33: 18/6 | G33: 18/7 | H33: C | I33: LAA | J33: 4-0 | K33: LG | L33: 4-4 | M33: C | N33: CAR | O33: 4-2 | P33: 5-4 | Q33: LG | R33: BAA | S33: 4-5 | T33: LG | U33: BAL | V33: 4-2 | W33: C/G/T/TE | X33: BAL | Y33: 0-0/0-0/0-0/5 | AC33: 0 | AD33: 0 | AE33: 0 | AF33: 0 | AG33: 0 | AH33: 0 | AI33: 0 | AJ33: 0 | AK33: 0 | AL33: 0 | AM33: 0 | AN33: 0 | AO33: 0 | AP33: 0 | AQ33: 0 | AR33: 0 | AS33: 0 | AT33: 0 | AU33: 0 | AV33: 0 | AW33: 0
A34: LG/T | B34: HOU | C34: 0-7 | D34: Howard, Tytus | E34: 35208 | F34: 19/1 (23) | G34: 19/3 | H34: RT G | I34: HOA | J34: 4-5/0-5 | K34: C | M34: RT/TE | N34: HOU | O34: 4-7/4 | P34: 0-5 | Q34: RT G | R34: HOU | S34: 4-4 / 0-4 | T34: RT | U34: HOU | V34: 4-3
A35: RG | B35: BUF | C35: 0-0 | D35: Torrence, O'Cyrus | E35: 36545 | F35: 23/2 | G35: 23/2 | H35: RG | I35: BFA | J35: 0-4 | K35: C | L35: 4-5
D36: Robinson, Layden | E36: 37014 | F36: 24/4(103) | G36: 24/8 | H36: LG | I36: NEA | J36: 0-3 | K36: =IF(ISBLANK(VLOOKUP(TRIM(D36),ALL_SOMIFA!$A$1:$V$2721,8,FALSE)),"",IF(ISERROR(VLOOKUP(TRIM(D36),ALL_SOMIFA!$A$1:$V$2721,8,FALSE))," ",VLOOKUP(TRIM(D36),ALL_SOMIFA!$A$1:$V$2721,8,FALSE))) | L36: =IF(ISBLANK(VLOOKUP(TRIM(D36),ALL_SOMIFA!$A$1:$V$2721,9,FALSE)),"",IF(ISERROR(VLOOKUP(TRIM(D36),ALL_SOMIFA!$A$1:$V$2721,9,FALSE))," ",VLOOKUP(TRIM(D36),ALL_SOMIFA!$A$1:$V$2721,9,FALSE))) | M36: =IF(ISBLANK(VLOOKUP(TRIM(D36),ALL_SOMIFA!$A$1:$V$2721,10,FALSE)),"",IF(ISERROR(VLOOKUP(TRIM(D36),ALL_SOMIFA!$A$1:$V$2721,10,FALSE))," ",VLOOKUP(TRIM(D36),ALL_SOMIFA!$A$1:$V$2721,10,FALSE))) | N36: =IF(ISBLANK(VLOOKUP(TRIM(D36),ALL_SOMIFA!$A$1:$V$2721,11,FALSE)),"",IF(ISERROR(VLOOKUP(TRIM(D36),ALL_SOMIFA!$A$1:$V$2721,11,FALSE))," ",VLOOKUP(TRIM(D36),ALL_SOMIFA!$A$1:$V$2721,11,FALSE))) | O36: =IF(ISBLANK(VLOOKUP(TRIM(D36),ALL_SOMIFA!$A$1:$V$2721,12,FALSE)),"",IF(ISERROR(VLOOKUP(TRIM(D36),ALL_SOMIFA!$A$1:$V$2721,12,FALSE))," ",VLOOKUP(TRIM(D36),ALL_SOMIFA!$A$1:$V$2721,12,FALSE))) | P36: =IF(ISBLANK(VLOOKUP(TRIM(D36),ALL_SOMIFA!$A$1:$V$2721,13,FALSE)),"",IF(ISERROR(VLOOKUP(TRIM(D36),ALL_SOMIFA!$A$1:$V$2721,13,FALSE))," ",VLOOKUP(TRIM(D36),ALL_SOMIFA!$A$1:$V$2721,13,FALSE))) | Q36: =IF(ISBLANK(VLOOKUP(TRIM(D36),ALL_SOMIFA!$A$1:$V$2721,14,FALSE)),"",IF(ISERROR(VLOOKUP(TRIM(D36),ALL_SOMIFA!$A$1:$V$2721,14,FALSE))," ",VLOOKUP(TRIM(D36),ALL_SOMIFA!$A$1:$V$2721,14,FALSE))) | R36: =IF(ISBLANK(VLOOKUP(TRIM(D36),ALL_SOMIFA!$A$1:$V$2721,15,FALSE)),"",IF(ISERROR(VLOOKUP(TRIM(D36),ALL_SOMIFA!$A$1:$V$2721,15,FALSE))," ",VLOOKUP(TRIM(D36),ALL_SOMIFA!$A$1:$V$2721,15,FALSE))) | S36: =IF(ISBLANK(VLOOKUP(TRIM(D36),ALL_SOMIFA!$A$1:$V$2721,16,FALSE)),"",IF(ISERROR(VLOOKUP(TRIM(D36),ALL_SOMIFA!$A$1:$V$2721,16,FALSE))," ",VLOOKUP(TRIM(D36),ALL_SOMIFA!$A$1:$V$2721,16,FALSE))) | T36: =IF(ISBLANK(VLOOKUP(TRIM(D36),ALL_SOMIFA!$A$1:$V$2721,17,FALSE)),"",IF(ISERROR(VLOOKUP(TRIM(D36),ALL_SOMIFA!$A$1:$V$2721,17,FALSE))," ",VLOOKUP(TRIM(D36),ALL_SOMIFA!$A$1:$V$2721,17,FALSE))) | U36: =IF(ISBLANK(VLOOKUP(TRIM(D36),ALL_SOMIFA!$A$1:$V$2721,18,FALSE)),"",IF(ISERROR(VLOOKUP(TRIM(D36),ALL_SOMIFA!$A$1:$V$2721,18,FALSE))," ",VLOOKUP(TRIM(D36),ALL_SOMIFA!$A$1:$V$2721,18,FALSE))) | V36: =IF(ISBLANK(VLOOKUP(TRIM(D36),ALL_SOMIFA!$A$1:$V$2721,19,FALSE)),"",IF(ISERROR(VLOOKUP(TRIM(D36),ALL_SOMIFA!$A$1:$V$2721,19,FALSE))," ",VLOOKUP(TRIM(D36),ALL_SOMIFA!$A$1:$V$2721,19,FALSE))) | W36: =IF(ISBLANK(VLOOKUP(TRIM(D36),ALL_SOMIFA!$A$1:$V$2721,20,FALSE)),"",IF(ISERROR(VLOOKUP(TRIM(D36),ALL_SOMIFA!$A$1:$V$2721,20,FALSE))," ",VLOOKUP(TRIM(D36),ALL_SOMIFA!$A$1:$V$2721,20,FALSE))) | X36: =IF(ISBLANK(VLOOKUP(TRIM(D36),ALL_SOMIFA!$A$1:$V$2721,21,FALSE)),"",IF(ISERROR(VLOOKUP(TRIM(D36),ALL_SOMIFA!$A$1:$V$2721,21,FALSE))," ",VLOOKUP(TRIM(D36),ALL_SOMIFA!$A$1:$V$2721,21,FALSE))) | Y36: =IF(ISBLANK(VLOOKUP(TRIM(D36),ALL_SOMIFA!$A$1:$V$2721,22,FALSE)),"",IF(ISERROR(VLOOKUP(TRIM(D36),ALL_SOMIFA!$A$1:$V$2721,22,FALSE))," ",VLOOKUP(TRIM(D36),ALL_SOMIFA!$A$1:$V$2721,22,FALSE)))
A38: NT | B38: PIT | C38: 4-5 | D38: Benton, Keeanu | E38: 37089 | F38: 23/2 | G38: 23/1 (13) | H38: NT | I38: PIA | J38: 5-1 | K38: NT | L38: 5-1
A39: DE/OLB | B39: DEN | C39: 4-4/04-4 | D39: Tillman, Dondrea | E39: 35915 | F39: 24/FA | G39: 24/7 | H39: OLB | I39: DNA | J39: 04-7 | K39: =IF(ISBLANK(VLOOKUP(TRIM(D39),ALL_SOMIFA!$A$1:$V$2721,8,FALSE)),"",IF(ISERROR(VLOOKUP(TRIM(D39),ALL_SOMIFA!$A$1:$V$2721,8,FALSE))," ",VLOOKUP(TRIM(D39),ALL_SOMIFA!$A$1:$V$2721,8,FALSE))) | L39: =IF(ISBLANK(VLOOKUP(TRIM(D39),ALL_SOMIFA!$A$1:$V$2721,9,FALSE)),"",IF(ISERROR(VLOOKUP(TRIM(D39),ALL_SOMIFA!$A$1:$V$2721,9,FALSE))," ",VLOOKUP(TRIM(D39),ALL_SOMIFA!$A$1:$V$2721,9,FALSE))) | M39: =IF(ISBLANK(VLOOKUP(TRIM(D39),ALL_SOMIFA!$A$1:$V$2721,10,FALSE)),"",IF(ISERROR(VLOOKUP(TRIM(D39),ALL_SOMIFA!$A$1:$V$2721,10,FALSE))," ",VLOOKUP(TRIM(D39),ALL_SOMIFA!$A$1:$V$2721,10,FALSE))) | N39: =IF(ISBLANK(VLOOKUP(TRIM(D39),ALL_SOMIFA!$A$1:$V$2721,11,FALSE)),"",IF(ISERROR(VLOOKUP(TRIM(D39),ALL_SOMIFA!$A$1:$V$2721,11,FALSE))," ",VLOOKUP(TRIM(D39),ALL_SOMIFA!$A$1:$V$2721,11,FALSE))) | O39: =IF(ISBLANK(VLOOKUP(TRIM(D39),ALL_SOMIFA!$A$1:$V$2721,12,FALSE)),"",IF(ISERROR(VLOOKUP(TRIM(D39),ALL_SOMIFA!$A$1:$V$2721,12,FALSE))," ",VLOOKUP(TRIM(D39),ALL_SOMIFA!$A$1:$V$2721,12,FALSE))) | P39: =IF(ISBLANK(VLOOKUP(TRIM(D39),ALL_SOMIFA!$A$1:$V$2721,13,FALSE)),"",IF(ISERROR(VLOOKUP(TRIM(D39),ALL_SOMIFA!$A$1:$V$2721,13,FALSE))," ",VLOOKUP(TRIM(D39),ALL_SOMIFA!$A$1:$V$2721,13,FALSE))) | Q39: =IF(ISBLANK(VLOOKUP(TRIM(D39),ALL_SOMIFA!$A$1:$V$2721,14,FALSE)),"",IF(ISERROR(VLOOKUP(TRIM(D39),ALL_SOMIFA!$A$1:$V$2721,14,FALSE))," ",VLOOKUP(TRIM(D39),ALL_SOMIFA!$A$1:$V$2721,14,FALSE))) | R39: =IF(ISBLANK(VLOOKUP(TRIM(D39),ALL_SOMIFA!$A$1:$V$2721,15,FALSE)),"",IF(ISERROR(VLOOKUP(TRIM(D39),ALL_SOMIFA!$A$1:$V$2721,15,FALSE))," ",VLOOKUP(TRIM(D39),ALL_SOMIFA!$A$1:$V$2721,15,FALSE))) | S39: =IF(ISBLANK(VLOOKUP(TRIM(D39),ALL_SOMIFA!$A$1:$V$2721,16,FALSE)),"",IF(ISERROR(VLOOKUP(TRIM(D39),ALL_SOMIFA!$A$1:$V$2721,16,FALSE))," ",VLOOKUP(TRIM(D39),ALL_SOMIFA!$A$1:$V$2721,16,FALSE))) | T39: =IF(ISBLANK(VLOOKUP(TRIM(D39),ALL_SOMIFA!$A$1:$V$2721,17,FALSE)),"",IF(ISERROR(VLOOKUP(TRIM(D39),ALL_SOMIFA!$A$1:$V$2721,17,FALSE))," ",VLOOKUP(TRIM(D39),ALL_SOMIFA!$A$1:$V$2721,17,FALSE))) | U39: =IF(ISBLANK(VLOOKUP(TRIM(D39),ALL_SOMIFA!$A$1:$V$2721,18,FALSE)),"",IF(ISERROR(VLOOKUP(TRIM(D39),ALL_SOMIFA!$A$1:$V$2721,18,FALSE))," ",VLOOKUP(TRIM(D39),ALL_SOMIFA!$A$1:$V$2721,18,FALSE))) | V39: =IF(ISBLANK(VLOOKUP(TRIM(D39),ALL_SOMIFA!$A$1:$V$2721,19,FALSE)),"",IF(ISERROR(VLOOKUP(TRIM(D39),ALL_SOMIFA!$A$1:$V$2721,19,FALSE))," ",VLOOKUP(TRIM(D39),ALL_SOMIFA!$A$1:$V$2721,19,FALSE))) | W39: =IF(ISBLANK(VLOOKUP(TRIM(D39),ALL_SOMIFA!$A$1:$V$2721,20,FALSE)),"",IF(ISERROR(VLOOKUP(TRIM(D39),ALL_SOMIFA!$A$1:$V$2721,20,FALSE))," ",VLOOKUP(TRIM(D39),ALL_SOMIFA!$A$1:$V$2721,20,FALSE))) | X39: =IF(ISBLANK(VLOOKUP(TRIM(D39),ALL_SOMIFA!$A$1:$V$2721,21,FALSE)),"",IF(ISERROR(VLOOKUP(TRIM(D39),ALL_SOMIFA!$A$1:$V$2721,21,FALSE))," ",VLOOKUP(TRIM(D39),ALL_SOMIFA!$A$1:$V$2721,21,FALSE))) | Y39: =IF(ISBLANK(VLOOKUP(TRIM(D39),ALL_SOMIFA!$A$1:$V$2721,22,FALSE)),"",IF(ISERROR(VLOOKUP(TRIM(D39),ALL_SOMIFA!$A$1:$V$2721,22,FALSE))," ",VLOOKUP(TRIM(D39),ALL_SOMIFA!$A$1:$V$2721,22,FALSE)))
A40: RE | B40: ARI | C40: 4-2 | D40: Robinson, Darius | E40: 37147 | F40: 24/1(27) | H40: End T | I40: ARN | J40: 0/0-2 | K40: =IF(ISBLANK(VLOOKUP(TRIM(D40),ALL_SOMIFA!$A$1:$V$2721,8,FALSE)),"",IF(ISERROR(VLOOKUP(TRIM(D40),ALL_SOMIFA!$A$1:$V$2721,8,FALSE))," ",VLOOKUP(TRIM(D40),ALL_SOMIFA!$A$1:$V$2721,8,FALSE))) | L40: =IF(ISBLANK(VLOOKUP(TRIM(D40),ALL_SOMIFA!$A$1:$V$2721,9,FALSE)),"",IF(ISERROR(VLOOKUP(TRIM(D40),ALL_SOMIFA!$A$1:$V$2721,9,FALSE))," ",VLOOKUP(TRIM(D40),ALL_SOMIFA!$A$1:$V$2721,9,FALSE))) | M40: =IF(ISBLANK(VLOOKUP(TRIM(D40),ALL_SOMIFA!$A$1:$V$2721,10,FALSE)),"",IF(ISERROR(VLOOKUP(TRIM(D40),ALL_SOMIFA!$A$1:$V$2721,10,FALSE))," ",VLOOKUP(TRIM(D40),ALL_SOMIFA!$A$1:$V$2721,10,FALSE))) | N40: =IF(ISBLANK(VLOOKUP(TRIM(D40),ALL_SOMIFA!$A$1:$V$2721,11,FALSE)),"",IF(ISERROR(VLOOKUP(TRIM(D40),ALL_SOMIFA!$A$1:$V$2721,11,FALSE))," ",VLOOKUP(TRIM(D40),ALL_SOMIFA!$A$1:$V$2721,11,FALSE))) | O40: =IF(ISBLANK(VLOOKUP(TRIM(D40),ALL_SOMIFA!$A$1:$V$2721,12,FALSE)),"",IF(ISERROR(VLOOKUP(TRIM(D40),ALL_SOMIFA!$A$1:$V$2721,12,FALSE))," ",VLOOKUP(TRIM(D40),ALL_SOMIFA!$A$1:$V$2721,12,FALSE))) | P40: =IF(ISBLANK(VLOOKUP(TRIM(D40),ALL_SOMIFA!$A$1:$V$2721,13,FALSE)),"",IF(ISERROR(VLOOKUP(TRIM(D40),ALL_SOMIFA!$A$1:$V$2721,13,FALSE))," ",VLOOKUP(TRIM(D40),ALL_SOMIFA!$A$1:$V$2721,13,FALSE))) | Q40: =IF(ISBLANK(VLOOKUP(TRIM(D40),ALL_SOMIFA!$A$1:$V$2721,14,FALSE)),"",IF(ISERROR(VLOOKUP(TRIM(D40),ALL_SOMIFA!$A$1:$V$2721,14,FALSE))," ",VLOOKUP(TRIM(D40),ALL_SOMIFA!$A$1:$V$2721,14,FALSE))) | R40: =IF(ISBLANK(VLOOKUP(TRIM(D40),ALL_SOMIFA!$A$1:$V$2721,15,FALSE)),"",IF(ISERROR(VLOOKUP(TRIM(D40),ALL_SOMIFA!$A$1:$V$2721,15,FALSE))," ",VLOOKUP(TRIM(D40),ALL_SOMIFA!$A$1:$V$2721,15,FALSE))) | S40: =IF(ISBLANK(VLOOKUP(TRIM(D40),ALL_SOMIFA!$A$1:$V$2721,16,FALSE)),"",IF(ISERROR(VLOOKUP(TRIM(D40),ALL_SOMIFA!$A$1:$V$2721,16,FALSE))," ",VLOOKUP(TRIM(D40),ALL_SOMIFA!$A$1:$V$2721,16,FALSE))) | T40: =IF(ISBLANK(VLOOKUP(TRIM(D40),ALL_SOMIFA!$A$1:$V$2721,17,FALSE)),"",IF(ISERROR(VLOOKUP(TRIM(D40),ALL_SOMIFA!$A$1:$V$2721,17,FALSE))," ",VLOOKUP(TRIM(D40),ALL_SOMIFA!$A$1:$V$2721,17,FALSE))) | U40: =IF(ISBLANK(VLOOKUP(TRIM(D40),ALL_SOMIFA!$A$1:$V$2721,18,FALSE)),"",IF(ISERROR(VLOOKUP(TRIM(D40),ALL_SOMIFA!$A$1:$V$2721,18,FALSE))," ",VLOOKUP(TRIM(D40),ALL_SOMIFA!$A$1:$V$2721,18,FALSE))) | V40: =IF(ISBLANK(VLOOKUP(TRIM(D40),ALL_SOMIFA!$A$1:$V$2721,19,FALSE)),"",IF(ISERROR(VLOOKUP(TRIM(D40),ALL_SOMIFA!$A$1:$V$2721,19,FALSE))," ",VLOOKUP(TRIM(D40),ALL_SOMIFA!$A$1:$V$2721,19,FALSE))) | W40: =IF(ISBLANK(VLOOKUP(TRIM(D40),ALL_SOMIFA!$A$1:$V$2721,20,FALSE)),"",IF(ISERROR(VLOOKUP(TRIM(D40),ALL_SOMIFA!$A$1:$V$2721,20,FALSE))," ",VLOOKUP(TRIM(D40),ALL_SOMIFA!$A$1:$V$2721,20,FALSE))) | X40: =IF(ISBLANK(VLOOKUP(TRIM(D40),ALL_SOMIFA!$A$1:$V$2721,21,FALSE)),"",IF(ISERROR(VLOOKUP(TRIM(D40),ALL_SOMIFA!$A$1:$V$2721,21,FALSE))," ",VLOOKUP(TRIM(D40),ALL_SOMIFA!$A$1:$V$2721,21,FALSE))) | Y40: =IF(ISBLANK(VLOOKUP(TRIM(D40),ALL_SOMIFA!$A$1:$V$2721,22,FALSE)),"",IF(ISERROR(VLOOKUP(TRIM(D40),ALL_SOMIFA!$A$1:$V$2721,22,FALSE))," ",VLOOKUP(TRIM(D40),ALL_SOMIFA!$A$1:$V$2721,22,FALSE)))
A41: DT/DE | B41: DAL | C41: 4-0 | D41: Thomas, Solomon | E41: 35053 | F41: 17/1 (3) | G41: 17/2 | H41: End T | I41: NYA | J41: 0/0-5 | K41: RE/DT | L41: 4-7/0-7 | M41: DT/DE | N41: NYJ | O41: 0-2 | P41: 0-5 | Q41: (I/R) | T41: DE/DT | U41: SF | V41: 4-4/0-4 | W41: LE | X41: SF | Y41: 4-2 | Z41: RE | AA41: SF | AB41: 4-4 | AC41: 0 | AD41: 0 | AE41: 0 | AF41: 0 | AG41: 0 | AH41: 0 | AI41: 0 | AJ41: 0 | AK41: 0 | AL41: 0 | AM41: 0 | AN41: 0 | AO41: 0 | AP41: 0 | AQ41: 0 | AR41: 0 | AS41: 0 | AT41: 0 | AU41: 0 | AV41: 0 | AW41: 0
A42: DT/DE | B42: HOU | C42: 0-4 | D42: Edwards Jr., Mario | E42: 34359 | F42: 15/2 | G42: IN/26 | H42: RT | I42: HOA | J42: 0-4 | K42: DT | M42: LOLB/DE | N42: TEN | O42: 05-4/5-4 | P42: 0-3 | Q42: End | R42: CHN | S42: 4-4 | T42: DE | U42: NO | V42: 0-3 | W42: DE | X42: NYG | Y42: 4-2 | Z42: RE | AA42: OAK | AB42: 4-4 | AC42: DE | AD42: OAK | AE42: 0-0 | AF42: LLB | AG42: OAK | AH42: 45-4 | AI42: LLB | AJ42: OAK | AK42: 45-4 | AL42: 0 | AM42: 0 | AN42: 0 | AO42: 0 | AP42: 0 | AQ42: 0 | AR42: 0 | AS42: 0 | AT42: 0 | AU42: 0 | AV42: 0 | AW42: 0
D43: Jefferson, Quinton | E43: 34059 | F43: 16/5 | G43: IN/53 | H43: End T | I43: BFA | J43: 0/0-4 | K43: LDT | L43: 0-8 | M43: DT | N43: SEA | O43: 0-6 | P43: 0-6 | Q43: T | R43: BUF | S43: 0-3 | T43: RE/DT | U43: SEA | V43: 5-4/4-4 | W43: LE | X43: SEA | Y43: 4-4 | Z43: DT/DE | AA43: SEA | AB43: 0-3 | AC43: DT | AD43: SEA | AE43: 0-0 | AF43: 0 | AG43: 0 | AH43: 0 | AI43: 0 | AJ43: 0 | AK43: 0 | AL43: 0 | AM43: 0 | AN43: 0 | AO43: 0 | AP43: 0 | AQ43: 0 | AR43: 0 | AS43: 0 | AT43: 0 | AU43: 0 | AV43: 0 | AW43: 0
D44: Leal, DeMarvin | E44: 36708 | F44: 22/3 | G44: 22/8 | H44: End OLB | I44: PIA | J44: 0/0-0 | K44: DT | L44: 0-1 | M44: DE | N44: PIT | O44: 0-0
A46: LOLB | B46: IND | C46: 04-6 | D46: Paye, Kwity | E46: 36118 | F46: 21/1 (21) | G46: 21/2 | H46: LE | I46: INA | J46: 5-10 | K46: LE | L46: 5-12-1* | M46: LE | N46: IND | O46: 5-7 | P46: 4-5
A47: LOLB | B47: MIA | C47: 04-7 | D47: Robinson, Chop | E47: 37623 | F47: 24/1(21) | G47: 24/2 | H47: End OLB | I47: MIA | J47: 0/0-6 | K47: =IF(ISBLANK(VLOOKUP(TRIM(D47),ALL_SOMIFA!$A$1:$V$2721,8,FALSE)),"",IF(ISERROR(VLOOKUP(TRIM(D47),ALL_SOMIFA!$A$1:$V$2721,8,FALSE))," ",VLOOKUP(TRIM(D47),ALL_SOMIFA!$A$1:$V$2721,8,FALSE))) | L47: =IF(ISBLANK(VLOOKUP(TRIM(D47),ALL_SOMIFA!$A$1:$V$2721,9,FALSE)),"",IF(ISERROR(VLOOKUP(TRIM(D47),ALL_SOMIFA!$A$1:$V$2721,9,FALSE))," ",VLOOKUP(TRIM(D47),ALL_SOMIFA!$A$1:$V$2721,9,FALSE))) | M47: =IF(ISBLANK(VLOOKUP(TRIM(D47),ALL_SOMIFA!$A$1:$V$2721,10,FALSE)),"",IF(ISERROR(VLOOKUP(TRIM(D47),ALL_SOMIFA!$A$1:$V$2721,10,FALSE))," ",VLOOKUP(TRIM(D47),ALL_SOMIFA!$A$1:$V$2721,10,FALSE))) | N47: =IF(ISBLANK(VLOOKUP(TRIM(D47),ALL_SOMIFA!$A$1:$V$2721,11,FALSE)),"",IF(ISERROR(VLOOKUP(TRIM(D47),ALL_SOMIFA!$A$1:$V$2721,11,FALSE))," ",VLOOKUP(TRIM(D47),ALL_SOMIFA!$A$1:$V$2721,11,FALSE))) | O47: =IF(ISBLANK(VLOOKUP(TRIM(D47),ALL_SOMIFA!$A$1:$V$2721,12,FALSE)),"",IF(ISERROR(VLOOKUP(TRIM(D47),ALL_SOMIFA!$A$1:$V$2721,12,FALSE))," ",VLOOKUP(TRIM(D47),ALL_SOMIFA!$A$1:$V$2721,12,FALSE))) | P47: =IF(ISBLANK(VLOOKUP(TRIM(D47),ALL_SOMIFA!$A$1:$V$2721,13,FALSE)),"",IF(ISERROR(VLOOKUP(TRIM(D47),ALL_SOMIFA!$A$1:$V$2721,13,FALSE))," ",VLOOKUP(TRIM(D47),ALL_SOMIFA!$A$1:$V$2721,13,FALSE))) | Q47: =IF(ISBLANK(VLOOKUP(TRIM(D47),ALL_SOMIFA!$A$1:$V$2721,14,FALSE)),"",IF(ISERROR(VLOOKUP(TRIM(D47),ALL_SOMIFA!$A$1:$V$2721,14,FALSE))," ",VLOOKUP(TRIM(D47),ALL_SOMIFA!$A$1:$V$2721,14,FALSE))) | R47: =IF(ISBLANK(VLOOKUP(TRIM(D47),ALL_SOMIFA!$A$1:$V$2721,15,FALSE)),"",IF(ISERROR(VLOOKUP(TRIM(D47),ALL_SOMIFA!$A$1:$V$2721,15,FALSE))," ",VLOOKUP(TRIM(D47),ALL_SOMIFA!$A$1:$V$2721,15,FALSE))) | S47: =IF(ISBLANK(VLOOKUP(TRIM(D47),ALL_SOMIFA!$A$1:$V$2721,16,FALSE)),"",IF(ISERROR(VLOOKUP(TRIM(D47),ALL_SOMIFA!$A$1:$V$2721,16,FALSE))," ",VLOOKUP(TRIM(D47),ALL_SOMIFA!$A$1:$V$2721,16,FALSE))) | T47: =IF(ISBLANK(VLOOKUP(TRIM(D47),ALL_SOMIFA!$A$1:$V$2721,17,FALSE)),"",IF(ISERROR(VLOOKUP(TRIM(D47),ALL_SOMIFA!$A$1:$V$2721,17,FALSE))," ",VLOOKUP(TRIM(D47),ALL_SOMIFA!$A$1:$V$2721,17,FALSE))) | U47: =IF(ISBLANK(VLOOKUP(TRIM(D47),ALL_SOMIFA!$A$1:$V$2721,18,FALSE)),"",IF(ISERROR(VLOOKUP(TRIM(D47),ALL_SOMIFA!$A$1:$V$2721,18,FALSE))," ",VLOOKUP(TRIM(D47),ALL_SOMIFA!$A$1:$V$2721,18,FALSE))) | V47: =IF(ISBLANK(VLOOKUP(TRIM(D47),ALL_SOMIFA!$A$1:$V$2721,19,FALSE)),"",IF(ISERROR(VLOOKUP(TRIM(D47),ALL_SOMIFA!$A$1:$V$2721,19,FALSE))," ",VLOOKUP(TRIM(D47),ALL_SOMIFA!$A$1:$V$2721,19,FALSE))) | W47: =IF(ISBLANK(VLOOKUP(TRIM(D47),ALL_SOMIFA!$A$1:$V$2721,20,FALSE)),"",IF(ISERROR(VLOOKUP(TRIM(D47),ALL_SOMIFA!$A$1:$V$2721,20,FALSE))," ",VLOOKUP(TRIM(D47),ALL_SOMIFA!$A$1:$V$2721,20,FALSE))) | X47: =IF(ISBLANK(VLOOKUP(TRIM(D47),ALL_SOMIFA!$A$1:$V$2721,21,FALSE)),"",IF(ISERROR(VLOOKUP(TRIM(D47),ALL_SOMIFA!$A$1:$V$2721,21,FALSE))," ",VLOOKUP(TRIM(D47),ALL_SOMIFA!$A$1:$V$2721,21,FALSE))) | Y47: =IF(ISBLANK(VLOOKUP(TRIM(D47),ALL_SOMIFA!$A$1:$V$2721,22,FALSE)),"",IF(ISERROR(VLOOKUP(TRIM(D47),ALL_SOMIFA!$A$1:$V$2721,22,FALSE))," ",VLOOKUP(TRIM(D47),ALL_SOMIFA!$A$1:$V$2721,22,FALSE)))
A48: LILB | B48: CAR | C48: 04-5 | D48: Rozeboom, Christian | E48: 35460 | F48: 20/FA | G48: 23/6 | H48: LILB | I48: LAN | J48: 54-5 | K48: LILB | L48: 40-0
A49: MLB | B49: JAX | C49: 66-4 | D49: Lloyd, Devin | E49: 36068 | F49: 22/1 (27) | G49: 22/2 | H49: MLB | I49: JXA | J49: 46-4 | K49: LLB/CB | L49: 46-0 | M49: LILB | N49: JAX | O49: 44-3
...

Sheet Card Rankings
B2: Player | C2: 2025Tm | D2: 2025 Card Info
B4: All QBs with 100 or more attempts | D4: Mostly mathematical approach this year including all aspects of the card except that end run value is purely subjective
A6: 1 | B6: Maye, Drake | C6: NE
A7: 2 | B7: Stafford, Matthew | C7: LAR
A8: 3 | B8: Goff, Jared | C8: DET
A9: 4 | B9: Love, Jordan | C9: GB
A10: 5 | B10: Allen, Josh | C10: BUF
A11: 6 | B11: Burrow, Joe | C11: CIN
A12: 7 | B12: Jackson, Lamar | C12: BAL
A13: 8 | B13: Prescott, Dak | C13: DAL
A14: 9 | B14: Rodgers, Aaron | C14: PIT
A15: 10 | B15: Mahomes, Patrick | C15: KC
A16: 11 | B16: Herbert, Justin | C16: LAC
A17: 12 | B17: Stroud, C.J. | C17: HOU
A18: 13 | B18: Jones, Daniel | C18: IND | D18: medium snap fumble chance
A19: 14 | B19: Shough, Tyler | C19: NO
A20: 15 | B20: Brissett, Jacoby | C20: ARI
A21: 16 | B21: Mayfield, Baker | C21: TB | D21: medium snap fumble chance
A22: 17 | B22: Murray, Kyler | C22: ARI
A23: 18 | B23: Purdy, Brock | C23: SF
A24: 19 | B24: Dart, Jaxson | C24: NYG
A25: 20 | B25: Hurts, Jalen | C25: PHI
A26: 21 | B26: Darnold, Sam | C26: SEA | D26: medium snap fumble chance
A27: 22 | B27: Nix, Bo | C27: DEN
A28: 23 | B28: Fields, Justin | C28: NYJ
A29: 24 | B29: Williams, Caleb | C29: CHI
A30: 25 | B30: Daniels, Jayden | C30: WAS
A31: 26 | B31: Jones, Mac | C31: SF
A32: 27 | B32: Ward, Cam | C32: TEN | D32: medium snap fumble chance
A33: 28 | B33: Mariota, Marcus | C33: WAS
A34: 29 | B34: Young, Bryce | C34: CAR
A35: 30 | B35: Lawrence, Trevor | C35: JAX
A36: 31 | B36: Penix Jr., Michael | C36: ATL
A37: 32 | B37: Rattler, Spencer | C37: NO
A38: 33 | B38: Gabriel, Dillon | C38: CLE
A39: 34 | B39: Wentz, Carson | C39: MIN | D39: medium snap fumble chance
A40: 35 | B40: Wilson, Russell | C40: NYG | D40: medium snap fumble chance
A41: 36 | B41: Cousins, Kirk | C41: ATL
A42: 37 | B42: Flacco, Joe | C42: CIN
A43: 38 | B43: Mills, Davis | C43: HOU
...

Sheet UNOWNED_2025
A1: 2025 Pos | B1: 2025Tm | C1: 2025 Card Info | D1: Player | E1: Birthday | F1: NFL Draft | G1: Lg Draft* | H1: 2024 Pos | I1: 2024Tm | J1: 2024 Card Info | K1: 2023 Pos | L1: 2023Tm | M1: 2023 Card Info | N1: 2022 Pos | O1: 2022Tm | P1: 2022 Card Info | Q1: 2021 Pos | R1: 2021Tm | S1: 2021 Card Info | T1: 2020 Pos | U1: 2020Tm | V1: 2020 Card Info | W1: 2019 Pos | X1: 2019Tm | Y1: 2019 Card Info | Z1: 2018 Pos | AA1: 2018Tm | AB1: 2018 Card Info | AC1: 2017 Pos | AD1: 2017Tm | AE1: 2017 Card Info | AF1: 2016 Pos | AG1: 2016Tm | AH1: 2016 Card Info | AI1: 2015 Pos | AJ1: 2015Tm | AK1: 2015 Card Info | AL1: 2014 Pos | AM1: 2014Tm | AN1: 2014 Card Info | AO1: 2013 Pos | AP1: 2013Tm | AQ1: 2013 Card Info | AR1: 2012 Pos | AS1: 2012Tm | AT1: 2012 Card Info | AU1: 2011 Pos | AV1: 2011Tm | AW1: 2011 Card Info | AX1: 2010 Pos | AY1: 2010Tm | AZ1: 2010 Card Info
A2: OLB | B2: IND | C2: 04-3 | D2: Ajiake, Austin | E2: 36707 | F2: 23/FA
A3: DT/DE | B3: NYG | C3: 0-4 | D3: Alexander, Darius | E3: 36764 | F3: 25/3
A4: KR | B4: BAL | D4: Ali, Rasheen | E4: 36938 | F4: 24/5
A5: HB/KR | B5: JAX | C5: 0-3 23 | D5: Allen Jr., LeQuint | E5: 38204 | F5: 25/7
A6: QB | B6: TEN | C6: 30 attempts | D6: Allen, Brandon | E6: 33852 | F6: 16/6 | G6: 20/7 | H6: QB | I6: SF | J6: 30 attempts | N6: QB | O6: CIN | P6: 3 attempts | Q6: QB | R6: CIN | S6: 34 attempts | T6: QB | U6: CIN | W6: QB | X6: DEN | Y6: 84 attempts
A7: QB | B7: DET | C7: 2 attempts | D7: Allen, Kyle | E7: 35132 | F7: 18/FA | G7: 18/10 | K7: QB | L7: BUF | M7: 0 attempts | N7: QB | O7: HOU | P7: 78 attempts | T7: QB | U7: WAS | V7: 87 attempts | W7: QB | X7: CAR | Z7: QB | AA7: CAR | AB7: 31 attempts
A8: LCB | B8: WAS | C8: 4 | D8: Amos, Trey | E8: 37318 | F8: 25/2
A9: DB | B9: CIN | C9: 00 | D9: Anderson, Tycen | E9: 36324 | F9: 22/5
A10: RCB | B10: TEN | C10: 0 | D10: Armour-Davis, Jalyn | E10: 36406 | F10: 22/4 | H10: DB | I10: BAL | J10: 04
A11: TE/BB | B11: SEA | C11: 4/0-0 | D11: Arroyo, Elijah | E11: 37716 | F11: 25/2
A12: SE/TE | B12: NO | C12: 0 | D12: Austin Jr., Kevin | E12: 36605 | F12: 22/FA | H12: WR | I12: NO
A13: DB | B13: NE | C13: 00 | D13: Austin, Alex | E13: 37033 | F13: 23/7 | G13: 24/13 | H13: DB | I13: NE | J13: 00
A14: DB | B14: CLE | C14: 00 | D14: Avery, Tre | E14: 35487 | F14: 22/FA | K14: DB | L14: TEN | M14: 00 | N14: DB | O14: TEN | P14: 04
A15: SE | B15: TEN | D15: Ayomanor, Elic | E15: 37775 | F15: 25/4
A16: LP | B16: LAV | D16: Bachman, Alex | E16: 35214 | F16: 19/FA
A17: HB/KR | B17: DEN | C17: 0-0 8 | D17: Badie, Tyler | E17: 36563 | F17: 22/6
A18: DB | B18: GB | C18: 00 | D18: Baldwin, Johnathan | E18: 37660 | F18: 25/FA
A19: LT | B19: NO | C19: 5-5 | D19: Banks Jr., Kelvin | E19: 38056 | F19: 25/1 (9)
A20: DT | B20: WAS | C20: 0-2 | D20: Barber, Ricky | E20: 37018 | F20: 25/FA
A21: ILB | B21: NYG | C21: 00-3 | D21: Barnes, Zaire | E21: 36406 | F21: 23/6
A22: DB | B22: DEN | C22: 04 | D22: Barron, Jahdae | E22: 37229 | F22: 25/1 (20)
A23: LB | B23: KC | C23: 00-0 | D23: Bassa, Jeffrey | E23: 37519 | F23: 25/5
A24: DE/OLB | B24: MIN | C24: 0-0/00-0 | D24: Batty, Tyler | E24: 36282 | F24: 25/FA
A25: WR | B25: LAV | D25: Bech, Jack | E25: 37608 | F25: 25/2
A26: FB | B26: NYJ | C26: 4-0 1 | D26: Beck, Andrew | E26: 35200 | F26: 19/FA | G26: 23/9 | K26: FB/KR | L26: HOU | M26: 0-5 5 | W26: TE/BB | X26: DEN | Y26: 4/0-0
A27: G/T | B27: GB | C27: 0-0 | D27: Belton, Anthony | E27: 36945 | F27: 25/2
A28: T/TE | B28: CHI | C28: 4-2/4 | D28: Benedet, Theo | E28: 37176 | F28: 24/FA
A29: DT/DE | B29: MIA | C29: 0-2 | D29: Biggers, Zeek | E29: 37898 | F29: 25/7
A30: DB | B30: NYG | C30: 04 | D30: Black, Korie | E30: 37429 | F30: 25/7
A31: DT/DE | B31: PIT | C31: 0-0 | D31: Black, Yahya | E31: 37367 | F31: 25/5
A32: LCB | B32: IND | C32: 0 | D32: Blackmon, Mekhi | E32: 36237 | F32: 23/3 | G32: 23/7 | K32: CB | L32: MIN | M32: 4
A33: HB | B33: DAL | C33: 0-2 38 | D33: Blue, Jaydon | E33: 37994 | F33: 25/5
A34: WR | B34: CLE | D34: Bond, Isaiah | E34: 38061 | F34: 25/FA
A35: DB | B35: MIA | C35: 00 | D35: Bonner, Ethan | E35: 36456 | F35: 23/FA
A36: K | B36: NE | D36: Borregales, Andres | E36: 37623 | F36: 25/6
A37: DB | B37: ATL | C37: 00 | D37: Bowman Jr., Billy | E37: 37650 | F37: 25/4
A38: DT | B38: NO | C38: 0-0 | D38: Boyd, Khristian | E38: 36579 | F38: 24/6
A39: DB | B39: JAX | C39: 04 | D39: Braswell, Christian | E39: 36430 | F39: 23/6
A40: DT | B40: TB | C40: 0-1 | D40: Brewer, C.J. | E40: 35695 | F40: 22/FA | H40: DT | I40: TB | J40: 0-2
...

Sheet Last 3 Games Randomizer
A1: Website: | B1: https://wheeldecide.com/ | D1: Results: | F1: 2018 Randomizer: https://www.youtube.com/watch?v=umlcmcYWvSE
B2: Baylor | D2: Martin | F2: 2020 Card Set Randomizer: https://www.youtube.com/watch?v=_02_lsKvXCE
A3: 1 | B3: Philadelphia | C3: 1 | D3: Buffalo
A4: 2 | B4: Indianapolis | C4: 2 | D4: Pittsburgh
A5: 3 | B5: New York Jets | C5: 3 | D5: Cleveland
A6: 4 | B6: Los Angeles Rams | C6: 4 | D6: New York Giants
A7: 5 | B7: Houston | C7: 5 | D7: Chicago
A8: 6 | B8: New Orleans | C8: 6 | D8: Seattle
A9: 7 | B9: Las Vegas | C9: 7 | D9: Dallas
A10: 8 | B10: Kansas City | C10: 8 | D10: Tennessee
A11: 9 | B11: Baltimore | C11: 9 | D11: Cincinatti
A12: 10 | B12: Atlanta | C12: 10 | D12: Los Angeles Chargers
A13: 11 | B13: Denver | C13: 11 | D13: Tampa Bay
A14: 12 | B14: New England | C14: 12 | D14: Arizona
... A46: 14 | B46: Detroit | C46: 2 | D46: Pittsburgh

Sheet ALL
A2: Player | B2: 2024 Pos | C2: 2024Tm | D2: Birthday | E2: NFL Draft | F2: Lg Draft* | G2: 2024 Card Info | H2: Taken | I2: Column1 | J2: DefPrimary2 | K2: Def-Secondary3 | L2: PassRush4 | M2: PassRush*5 | N2: RunBlock-Primary6 | O2: RunBlock-Secondary7 | P2: PassBlock8 | Q2: PassBlock9 | R2: Player Data
A3: Adkins, Nate | B3: BB TE | C3: DNA | D3: 36350 | E3: 23/FA | G3: 0-2 4-3-0 | H3: =VLOOKUP(Table16[[#This Row],[Player]],Rosters!$D$1:$D$1939,1,FALSE) -> Adkins, Nate | I3: =Table16[[#This Row],[RunBlock-Primary6]]&"-"&Table16[[#This Row],[PassBlock8]]&IF(Table16[[#This Row],[RunBlock-Secondary7]]<>"","/"&Table16[[#This Row],[RunBlock-Secondary7]]&"-"&Table16[[#This Row],[PassBlock8]],"") -> 0-2 | N3: 0 | P3: 2 | Q3: =Table16[[#This Row],[DefPrimary2]]&IF(Table16[[#This Row],[Def-Secondary3]]<>"","/"&Table16[[#This Row],[Def-Secondary3]],)&""&IF(Table16[[#This Row],[PassRush4]]<>"","-"&Table16[[#This Row],[PassRush4]],) | R3: =VLOOKUP(Table16[[#This Row],[Player]],#REF!,9,FALSE) -> #REF! | S3: =LEFT(Table16[[#This Row],[2024 Card Info]],3)&" "&Table16[[#This Row],[Player Data]] -> #REF!
A4: Akins, Jordan | B4: BB TE | C4: CLA | D4: 33713 | E4: 18/3 | G4: 0-2 3-5-0 | H4: =VLOOKUP(Table16[[#This Row],[Player]],Rosters!$D$1:$D$1939,1,FALSE) -> Akins, Jordan | I4: =Table16[[#This Row],[RunBlock-Primary6]]&"-"&Table16[[#This Row],[PassBlock8]]&IF(Table16[[#This Row],[RunBlock-Secondary7]]<>"","/"&Table16[[#This Row],[RunBlock-Secondary7]]&"-"&Table16[[#This Row],[PassBlock8]],"") -> 0-2 | N4: 0 | P4: 2 | Q4: =Table16[[#This Row],[DefPrimary2]]&IF(Table16[[#This Row],[Def-Secondary3]]<>"","/"&Table16[[#This Row],[Def-Secondary3]],)&""&IF(Table16[[#This Row],[PassRush4]]<>"","-"&Table16[[#This Row],[PassRush4]],) | R4: =VLOOKUP(Table16[[#This Row],[Player]],#REF!,9,FALSE) -> #REF! | S4: =LEFT(Table16[[#This Row],[2024 Card Info]],3)&" "&Table16[[#This Row],[Player Data]] -> #REF!
A5: Bates, John | B5: BB TE | C5: WAN | D5: 35735 | E5: 21/4 | G5: 0-3 3-3-0 | H5: =VLOOKUP(Table16[[#This Row],[Player]],Rosters!$D$1:$D$1939,1,FALSE) -> Bates, John | I5: =Table16[[#This Row],[RunBlock-Primary6]]&"-"&Table16[[#This Row],[PassBlock8]]&IF(Table16[[#This Row],[RunBlock-Secondary7]]<>"","/"&Table16[[#This Row],[RunBlock-Secondary7]]&"-"&Table16[[#This Row],[PassBlock8]],"") -> 0-3 | N5: 0 | P5: 3 | Q5: =Table16[[#This Row],[DefPrimary2]]&IF(Table16[[#This Row],[Def-Secondary3]]<>"","/"&Table16[[#This Row],[Def-Secondary3]],)&""&IF(Table16[[#This Row],[PassRush4]]<>"","-"&Table16[[#This Row],[PassRush4]],) | R5: =VLOOKUP(Table16[[#This Row],[Player]],#REF!,9,FALSE) -> #REF! | S5: =LEFT(Table16[[#This Row],[2024 Card Info]],3)&" "&Table16[[#This Row],[Player Data]] -> #REF!
A6: Calcaterra, Grant | B6: BB TE | C6: PHN | D6: 36133 | E6: 22/6 | G6: 0-0 4-3-3 | H6: =VLOOKUP(Table16[[#This Row],[Player]],Rosters!$D$1:$D$1939,1,FALSE) -> Calcaterra, Grant | I6: =Table16[[#This Row],[RunBlock-Primary6]]&"-"&Table16[[#This Row],[PassBlock8]]&IF(Table16[[#This Row],[RunBlock-Secondary7]]<>"","/"&Table16[[#This Row],[RunBlock-Secondary7]]&"-"&Table16[[#This Row],[PassBlock8]],"") -> 0-0 | N6: 0 | P6: 0 | Q6: =Table16[[#This Row],[DefPrimary2]]&IF(Table16[[#This Row],[Def-Secondary3]]<>"","/"&Table16[[#This Row],[Def-Secondary3]],)&""&IF(Table16[[#This Row],[PassRush4]]<>"","-"&Table16[[#This Row],[PassRush4]],) | R6: =VLOOKUP(Table16[[#This Row],[Player]],#REF!,9,FALSE) -> #REF! | S6: =LEFT(Table16[[#This Row],[2024 Card Info]],3)&" "&Table16[[#This Row],[Player Data]] -> #REF!
A7: Gesicki, Mike | B7: BB TE | C7: CNA | D7: 34975 | E7: 18/2 | G7: 0-2 5-5-0 | H7: =VLOOKUP(Table16[[#This Row],[Player]],Rosters!$D$1:$D$1939,1,FALSE) -> Gesicki, Mike | I7: =Table16[[#This Row],[RunBlock-Primary6]]&"-"&Table16[[#This Row],[PassBlock8]]&IF(Table16[[#This Row],[RunBlock-Secondary7]]<>"","/"&Table16[[#This Row],[RunBlock-Secondary7]]&"-"&Table16[[#This Row],[PassBlock8]],"") -> 0-2 | N7: 0 | P7: 2 | Q7: =Table16[[#This Row],[DefPrimary2]]&IF(Table16[[#This Row],[Def-Secondary3]]<>"","/"&Table16[[#This Row],[Def-Secondary3]],)&""&IF(Table16[[#This Row],[PassRush4]]<>"","-"&Table16[[#This Row],[PassRush4]],) | R7: =VLOOKUP(Table16[[#This Row],[Player]],#REF!,9,FALSE) -> #REF! | S7: =LEFT(Table16[[#This Row],[2024 Card Info]],3)&" "&Table16[[#This Row],[Player Data]] -> #REF!
A8: Gray, Noah | B8: BB TE | C8: KCA | D8: 36251 | E8: 21/5 | G8: 4-4 5-4-2 | H8: =VLOOKUP(Table16[[#This Row],[Player]],Rosters!$D$1:$D$1939,1,FALSE) -> Gray, Noah | I8: =Table16[[#This Row],[RunBlock-Primary6]]&"-"&Table16[[#This Row],[PassBlock8]]&IF(Table16[[#This Row],[RunBlock-Secondary7]]<>"","/"&Table16[[#This Row],[RunBlock-Secondary7]]&"-"&Table16[[#This Row],[PassBlock8]],"") -> 4-4 | N8: 4 | P8: 4 | Q8: =Table16[[#This Row],[DefPrimary2]]&IF(Table16[[#This Row],[Def-Secondary3]]<>"","/"&Table16[[#This Row],[Def-Secondary3]],)&""&IF(Table16[[#This Row],[PassRush4]]<>"","-"&Table16[[#This Row],[PassRush4]],) | R8: =VLOOKUP(Table16[[#This Row],[Player]],#REF!,9,FALSE) -> #REF! | S8: =LEFT(Table16[[#This Row],[2024 Card Info]],3)&" "&Table16[[#This Row],[Player Data]] -> #REF!
A9: Henry, Hunter | B9: BB TE | C9: NEA | D9: 34675 | E9: 16/2 | G9: 0-3 5-5-3 | H9: =VLOOKUP(Table16[[#This Row],[Player]],Rosters!$D$1:$D$1939,1,FALSE) -> Henry, Hunter | I9: =Table16[[#This Row],[RunBlock-Primary6]]&"-"&Table16[[#This Row],[PassBlock8]]&IF(Table16[[#This Row],[RunBlock-Secondary7]]<>"","/"&Table16[[#This Row],[RunBlock-Secondary7]]&"-"&Table16[[#This Row],[PassBlock8]],"") -> 0-3 | N9: 0 | P9: 3 | Q9: =Table16[[#This Row],[DefPrimary2]]&IF(Table16[[#This Row],[Def-Secondary3]]<>"","/"&Table16[[#This Row],[Def-Secondary3]],)&""&IF(Table16[[#This Row],[PassRush4]]<>"","-"&Table16[[#This Row],[PassRush4]],) | R9: =VLOOKUP(Table16[[#This Row],[Player]],#REF!,9,FALSE) -> #REF! | S9: =LEFT(Table16[[#This Row],[2024 Card Info]],3)&" "&Table16[[#This Row],[Player Data]] -> #REF!
A10: Hockenson, T.J. | B10: BB TE | C10: MIN | D10: 35614 | E10: 19/1 (8) | G10: 0-4 5-5-2 | H10: =VLOOKUP(Table16[[#This Row],[Player]],Rosters!$D$1:$D$1939,1,FALSE) -> Hockenson, T.J. | I10: =Table16[[#This Row],[RunBlock-Primary6]]&"-"&Table16[[#This Row],[PassBlock8]]&IF(Table16[[#This Row],[RunBlock-Secondary7]]<>"","/"&Table16[[#This Row],[RunBlock-Secondary7]]&"-"&Table16[[#This Row],[PassBlock8]],"") -> 0-4 | N10: 0 | P10: 4 | Q10: =Table16[[#This Row],[DefPrimary2]]&IF(Table16[[#This Row],[Def-Secondary3]]<>"","/"&Table16[[#This Row],[Def-Secondary3]],)&""&IF(Table16[[#This Row],[PassRush4]]<>"","-"&Table16[[#This Row],[PassRush4]],) | R10: =VLOOKUP(Table16[[#This Row],[Player]],#REF!,9,FALSE) -> #REF! | S10: =LEFT(Table16[[#This Row],[2024 Card Info]],3)&" "&Table16[[#This Row],[Player Data]] -> #REF!
A11: Kincaid, Dalton | B11: BB TE | C11: BFA | D11: 36451 | E11: 23/1 | G11: 0-2 5-5-2 | H11: =VLOOKUP(Table16[[#This Row],[Player]],Rosters!$D$1:$D$1939,1,FALSE) -> Kincaid, Dalton | I11: =Table16[[#This Row],[RunBlock-Primary6]]&"-"&Table16[[#This Row],[PassBlock8]]&IF(Table16[[#This Row],[RunBlock-Secondary7]]<>"","/"&Table16[[#This Row],[RunBlock-Secondary7]]&"-"&Table16[[#This Row],[PassBlock8]],"") -> 0-2 | N11: 0 | P11: 2 | Q11: =Table16[[#This Row],[DefPrimary2]]&IF(Table16[[#This Row],[Def-Secondary3]]<>"","/"&Table16[[#This Row],[Def-Secondary3]],)&""&IF(Table16[[#This Row],[PassRush4]]<>"","-"&Table16[[#This Row],[PassRush4]],) | R11: =VLOOKUP(Table16[[#This Row],[Player]],#REF!,9,FALSE) -> #REF! | S11: =LEFT(Table16[[#This Row],[2024 Card Info]],3)&" "&Table16[[#This Row],[Player Data]] -> #REF!
A12: Manhertz, Chris | B12: BB TE | C12: NYN | D12: 33704 | E12: 15/FA | G12: 4-5 3-3-0 | H12: =VLOOKUP(Table16[[#This Row],[Player]],Rosters!$D$1:$D$1939,1,FALSE) -> Manhertz, Chris | I12: =Table16[[#This Row],[RunBlock-Primary6]]&"-"&Table16[[#This Row],[PassBlock8]]&IF(Table16[[#This Row],[RunBlock-Secondary7]]<>"","/"&Table16[[#This Row],[RunBlock-Secondary7]]&"-"&Table16[[#This Row],[PassBlock8]],"") -> 4-5 | N12: 4 | P12: 5 | Q12: =Table16[[#This Row],[DefPrimary2]]&IF(Table16[[#This Row],[Def-Secondary3]]<>"","/"&Table16[[#This Row],[Def-Secondary3]],)&""&IF(Table16[[#This Row],[PassRush4]]<>"","-"&Table16[[#This Row],[PassRush4]],) | R12: =VLOOKUP(Table16[[#This Row],[Player]],#REF!,9,FALSE) -> #REF! | S12: =LEFT(Table16[[#This Row],[2024 Card Info]],3)&" "&Table16[[#This Row],[Player Data]] -> #REF!
A13: Mayer, Michael | B13: BB TE | C13: LVA | D13: 37078 | E13: 23/2 | G13: 0-0 4-3-0 | H13: =VLOOKUP(Table16[[#This Row],[Player]],Rosters!$D$1:$D$1939,1,FALSE) -> Mayer, Michael | I13: =Table16[[#This Row],[RunBlock-Primary6]]&"-"&Table16[[#This Row],[PassBlock8]]&IF(Table16[[#This Row],[RunBlock-Secondary7]]<>"","/"&Table16[[#This Row],[RunBlock-Secondary7]]&"-"&Table16[[#This Row],[PassBlock8]],"") -> 0-0 | N13: 0 | P13: 0 | Q13: =Table16[[#This Row],[DefPrimary2]]&IF(Table16[[#This Row],[Def-Secondary3]]<>"","/"&Table16[[#This Row],[Def-Secondary3]],)&""&IF(Table16[[#This Row],[PassRush4]]<>"","-"&Table16[[#This Row],[PassRush4]],) | R13: =VLOOKUP(Table16[[#This Row],[Player]],#REF!,9,FALSE) -> #REF! | S13: =LEFT(Table16[[#This Row],[2024 Card Info]],3)&" "&Table16[[#This Row],[Player Data]] -> #REF!
A14: Moreau, Foster | B14: BB TE | C14: NON | D14: 35556 | E14: 19/4 | G14: 0-3 4-5-3 | H14: =VLOOKUP(Table16[[#This Row],[Player]],Rosters!$D$1:$D$1939,1,FALSE) -> Moreau, Foster | I14: =Table16[[#This Row],[RunBlock-Primary6]]&"-"&Table16[[#This Row],[PassBlock8]]&IF(Table16[[#This Row],[RunBlock-Secondary7]]<>"","/"&Table16[[#This Row],[RunBlock-Secondary7]]&"-"&Table16[[#This Row],[PassBlock8]],"") -> 0-3 | N14: 0 | P14: 3 | Q14: =Table16[[#This Row],[DefPrimary2]]&IF(Table16[[#This Row],[Def-Secondary3]]<>"","/"&Table16[[#This Row],[Def-Secondary3]],)&""&IF(Table16[[#This Row],[PassRush4]]<>"","-"&Table16[[#This Row],[PassRush4]],) | R14: =VLOOKUP(Table16[[#This Row],[Player]],#REF!,9,FALSE) -> #REF! | S14: =LEFT(Table16[[#This Row],[2024 Card Info]],3)&" "&Table16[[#This Row],[Player Data]] -> #REF!
... A21: Woerner, Charlie | B21: BB TE | C21: ATN | D21: 35704 | E21: 20/6 | G21: 0-0 3-3-0 | H21: =VLOOKUP(Table16[[#This Row],[Player]],Rosters!$D$1:$D$1939,1,FALSE) -> Woerner, Charlie | I21: =Table16[[#This Row],[RunBlock-Primary6]]&"-"&Table16[[#This Row],[PassBlock8]]&IF(Table16[[#This Row],[RunBlock-Secondary7]]<>"","/"&Table16[[#This Row],[RunBlock-Secondary7]]&"-"&Table16[[#This Row],[PassBlock8]],"") -> 0-0 | N21: 0 | P21: 0 | Q21: =Table16[[#This Row],[DefPrimary2]]&IF(Table16[[#This Row],[Def-Secondary3]]<>"","/"&Table16[[#This Row],[Def-Secondary3]],)&""&IF(Table16[[#This Row],[PassRush4]]<>"","-"&Table16[[#This Row],[PassRush4]],) | R21: =VLOOKUP(Table16[[#This Row],[Player]],#REF!,9,FALSE) -> #REF! | S21: =LEFT(Table16[[#This Row],[2024 Card Info]],3)&" "&Table16[[#This Row],[Player Data]] -> #REF!
A22: Wright, Brock | B22: BB TE | C22: DEN | D22: 36161 | E22: 0 | G22: 0-0 4-3-0 | H22: =VLOOKUP(Table16[[#This Row],[Player]],Rosters!$D$1:$D$1939,1,FALSE) -> Wright, Brock | I22: =Table16[[#This Row],[RunBlock-Primary6]]&"-"&Table16[[#This Row],[PassBlock8]]&IF(Table16[[#This Row],[RunBlock-Secondary7]]<>"","/"&Table16[[#This Row],[RunBlock-Secondary7]]&"-"&Table16[[#This Row],[PassBlock8]],"") -> 0-0 | N22: 0 | P22: 0 | Q22: =Table16[[#This Row],[DefPrimary2]]&IF(Table16[[#This Row],[Def-Secondary3]]<>"","/"&Table16[[#This Row],[Def-Secondary3]],)&""&IF(Table16[[#This Row],[PassRush4]]<>"","-"&Table16[[#This Row],[PassRush4]],) | R22: =VLOOKUP(Table16[[#This Row],[Player]],#REF!,9,FALSE) -> #REF! | S22: =LEFT(Table16[[#This Row],[2024 Card Info]],3)&" "&Table16[[#This Row],[Player Data]] -> #REF!
A23: Barton, Graham | B23: C | C23: TBN | D23: 37408 | E23: 24/1(26) | G23: 4-4 | H23: =VLOOKUP(Table16[[#This Row],[Player]],Rosters!$D$1:$D$1939,1,FALSE) -> Barton, Graham | I23: =Table16[[#This Row],[RunBlock-Primary6]]&"-"&Table16[[#This Row],[PassBlock8]]&IF(Table16[[#This Row],[RunBlock-Secondary7]]<>"","/"&Table16[[#This Row],[RunBlock-Secondary7]]&"-"&Table16[[#This Row],[PassBlock8]],"") -> 4-4 | N23: 4 | P23: 4 | Q23: =Table16[[#This Row],[DefPrimary2]]&IF(Table16[[#This Row],[Def-Secondary3]]<>"","/"&Table16[[#This Row],[Def-Secondary3]],)&""&IF(Table16[[#This Row],[PassRush4]]<>"","-"&Table16[[#This Row],[PassRush4]],) | R23: =VLOOKUP(Table16[[#This Row],[Player]],#REF!,9,FALSE) -> #REF! | S23: =Table16[[#This Row],[2024 Card Info]]&" "&Table16[[#This Row],[Player Data]] -> #REF!
A24: Beebe, Cooper | B24: C | C24: DAN | D24: 37030 | E24: 24/3(73) | G24: 4-5 | H24: =VLOOKUP(Table16[[#This Row],[Player]],Rosters!$D$1:$D$1939,1,FALSE) -> Beebe, Cooper | I24: =Table16[[#This Row],[RunBlock-Primary6]]&"-"&Table16[[#This Row],[PassBlock8]]&IF(Table16[[#This Row],[RunBlock-Secondary7]]<>"","/"&Table16[[#This Row],[RunBlock-Secondary7]]&"-"&Table16[[#This Row],[PassBlock8]],"") -> 4-5 | N24: 4 | P24: 5 | Q24: =Table16[[#This Row],[DefPrimary2]]&IF(Table16[[#This Row],[Def-Secondary3]]<>"","/"&Table16[[#This Row],[Def-Secondary3]],)&""&IF(Table16[[#This Row],[PassRush4]]<>"","-"&Table16[[#This Row],[PassRush4]],) | R24: =VLOOKUP(Table16[[#This Row],[Player]],#REF!,9,FALSE) -> #REF! | S24: =Table16[[#This Row],[2024 Card Info]]&" "&Table16[[#This Row],[Player Data]] -> #REF!
A25: Biadasz, Tyler | B25: C | C25: WAN | D25: 35754 | E25: 20/4 | G25: 5-5 | H25: =VLOOKUP(Table16[[#This Row],[Player]],Rosters!$D$1:$D$1939,1,FALSE) -> Biadasz, Tyler | I25: =Table16[[#This Row],[RunBlock-Primary6]]&"-"&Table16[[#This Row],[PassBlock8]]&IF(Table16[[#This Row],[RunBlock-Secondary7]]<>"","/"&Table16[[#This Row],[RunBlock-Secondary7]]&"-"&Table16[[#This Row],[PassBlock8]],"") -> 5-5 | N25: 5 | P25: 5 | Q25: =Table16[[#This Row],[DefPrimary2]]&IF(Table16[[#This Row],[Def-Secondary3]]<>"","/"&Table16[[#This Row],[Def-Secondary3]],)&""&IF(Table16[[#This Row],[PassRush4]]<>"","-"&Table16[[#This Row],[PassRush4]],) | R25: =VLOOKUP(Table16[[#This Row],[Player]],#REF!,9,FALSE) -> #REF! | S25: =Table16[[#This Row],[2024 Card Info]]&" "&Table16[[#This Row],[Player Data]] -> #REF!
A26: Bozeman, Bradley | B26: C | C26: LAA | D26: 34662 | E26: 18/6 | G26: 4-0 | H26: =VLOOKUP(Table16[[#This Row],[Player]],Rosters!$D$1:$D$1939,1,FALSE) -> Bozeman, Bradley | I26: =Table16[[#This Row],[RunBlock-Primary6]]&"-"&Table16[[#This Row],[PassBlock8]]&IF(Table16[[#This Row],[RunBlock-Secondary7]]<>"","/"&Table16[[#This Row],[RunBlock-Secondary7]]&"-"&Table16[[#This Row],[PassBlock8]],"") -> 4-0 | N26: 4 | P26: 0 | Q26: =Table16[[#This Row],[DefPrimary2]]&IF(Table16[[#This Row],[Def-Secondary3]]<>"","/"&Table16[[#This Row],[Def-Secondary3]],)&""&IF(Table16[[#This Row],[PassRush4]]<>"","-"&Table16[[#This Row],[PassRush4]],) | R26: =VLOOKUP(Table16[[#This Row],[Player]],#REF!,9,FALSE) -> #REF! | S26: =Table16[[#This Row],[2024 Card Info]]&" "&Table16[[#This Row],[Player Data]] -> #REF!
A27: Bradbury, Garrett | B27: C | C27: MIN | D27: 34870 | E27: 19/1 (18) | G27: 5-0 | H27: =VLOOKUP(Table16[[#This Row],[Player]],Rosters!$D$1:$D$1939,1,FALSE) -> Bradbury, Garrett | I27: =Table16[[#This Row],[RunBlock-Primary6]]&"-"&Table16[[#This Row],[PassBlock8]]&IF(Table16[[#This Row],[RunBlock-Secondary7]]<>"","/"&Table16[[#This Row],[RunBlock-Secondary7]]&"-"&Table16[[#This Row],[PassBlock8]],"") -> 5-0 | N27: 5 | P27: 0 | Q27: =Table16[[#This Row],[DefPrimary2]]&IF(Table16[[#This Row],[Def-Secondary3]]<>"","/"&Table16[[#This Row],[Def-Secondary3]],)&""&IF(Table16[[#This Row],[PassRush4]]<>"","-"&Table16[[#This Row],[PassRush4]],) | R27: =VLOOKUP(Table16[[#This Row],[Player]],#REF!,9,FALSE) -> #REF! | S27: =Table16[[#This Row],[2024 Card Info]]&" "&Table16[[#This Row],[Player Data]] -> #REF!
A28: Brendel, Jake | B28: C | C28: SFN | D28: 33857 | E28: 16/FA | G28: 5-4 | H28: =VLOOKUP(Table16[[#This Row],[Player]],Rosters!$D$1:$D$1939,1,FALSE) -> Brendel, Jake | I28: =Table16[[#This Row],[RunBlock-Primary6]]&"-"&Table16[[#This Row],[PassBlock8]]&IF(Table16[[#This Row],[RunBlock-Secondary7]]<>"","/"&Table16[[#This Row],[RunBlock-Secondary7]]&"-"&Table16[[#This Row],[PassBlock8]],"") -> 5-4 | N28: 5 | P28: 4 | Q28: =Table16[[#This Row],[DefPrimary2]]&IF(Table16[[#This Row],[Def-Secondary3]]<>"","/"&Table16[[#This Row],[Def-Secondary3]],)&""&IF(Table16[[#This Row],[PassRush4]]<>"","-"&Table16[[#This Row],[PassRush4]],) | R28: =VLOOKUP(Table16[[#This Row],[Player]],#REF!,9,FALSE) -> #REF! | S28: =Table16[[#This Row],[2024 Card Info]]&" "&Table16[[#This Row],[Player Data]] -> #REF!
A29: Brewer, Aaron | B29: C | C29: MIA | D29: 35731 | E29: 20/FA | G29: 5-5 | H29: =VLOOKUP(Table16[[#This Row],[Player]],Rosters!$D$1:$D$1939,1,FALSE) -> Brewer, Aaron | I29: =Table16[[#This Row],[RunBlock-Primary6]]&"-"&Table16[[#This Row],[PassBlock8]]&IF(Table16[[#This Row],[RunBlock-Secondary7]]<>"","/"&Table16[[#This Row],[RunBlock-Secondary7]]&"-"&Table16[[#This Row],[PassBlock8]],"") -> 5-5 | N29: 5 | P29: 5 | Q29: =Table16[[#This Row],[DefPrimary2]]&IF(Table16[[#This Row],[Def-Secondary3]]<>"","/"&Table16[[#This Row],[Def-Secondary3]],)&""&IF(Table16[[#This Row],[PassRush4]]<>"","-"&Table16[[#This Row],[PassRush4]],) | R29: =VLOOKUP(Table16[[#This Row],[Player]],#REF!,9,FALSE) -> #REF! | S29: =Table16[[#This Row],[2024 Card Info]]&" "&Table16[[#This Row],[Player Data]] -> #REF!
A30: Brown, Ben | B30: C | C30: NEA | D30: 35941 | E30: 23/FA | G30: 0-3 | H30: =VLOOKUP(Table16[[#This Row],[Player]],Rosters!$D$1:$D$1939,1,FALSE) -> Brown, Ben | I30: =Table16[[#This Row],[RunBlock-Primary6]]&"-"&Table16[[#This Row],[PassBlock8]]&IF(Table16[[#This Row],[RunBlock-Secondary7]]<>"","/"&Table16[[#This Row],[RunBlock-Secondary7]]&"-"&Table16[[#This Row],[PassBlock8]],"") -> 0-3 | N30: 0 | P30: 3 | Q30: =Table16[[#This Row],[DefPrimary2]]&IF(Table16[[#This Row],[Def-Secondary3]]<>"","/"&Table16[[#This Row],[Def-Secondary3]],)&""&IF(Table16[[#This Row],[PassRush4]]<>"","-"&Table16[[#This Row],[PassRush4]],) | R30: =VLOOKUP(Table16[[#This Row],[Player]],#REF!,9,FALSE) -> #REF! | S30: =Table16[[#This Row],[2024 Card Info]]&" "&Table16[[#This Row],[Player Data]] -> #REF!
A31: Cushenberry, Lloyd | B31: C | C31: TNA | D31: 35756 | E31: 20/3 | G31: 0-2 | H31: =VLOOKUP(Table16[[#This Row],[Player]],Rosters!$D$1:$D$1939,1,FALSE) -> Cushenberry, Lloyd | I31: =Table16[[#This Row],[RunBlock-Primary6]]&"-"&Table16[[#This Row],[PassBlock8]]&IF(Table16[[#This Row],[RunBlock-Secondary7]]<>"","/"&Table16[[#This Row],[RunBlock-Secondary7]]&"-"&Table16[[#This Row],[PassBlock8]],"") -> 0-2 | N31: 0 | P31: 2 | Q31: =Table16[[#This Row],[DefPrimary2]]&IF(Table16[[#This Row],[Def-Secondary3]]<>"","/"&Table16[[#This Row],[Def-Secondary3]],)&""&IF(Table16[[#This Row],[PassRush4]]<>"","-"&Table16[[#This Row],[PassRush4]],) | R31: =VLOOKUP(Table16[[#This Row],[Player]],#REF!,9,FALSE) -> #REF! | S31: =Table16[[#This Row],[2024 Card Info]]&" "&Table16[[#This Row],[Player Data]] -> #REF!
